BEGIN:VCALENDAR
VERSION:2.0
PRODID:-//Smålands Trädgård - ECPv6.11.1//NONSGML v1.0//EN
CALSCALE:GREGORIAN
METHOD:PUBLISH
X-WR-CALNAME:Smålands Trädgård
X-ORIGINAL-URL:https://smalandstradgard.com
X-WR-CALDESC:Events for Smålands Trädgård
REFRESH-INTERVAL;VALUE=DURATION:PT1H
X-Robots-Tag:noindex
X-PUBLISHED-TTL:PT1H
BEGIN:VTIMEZONE
TZID:UTC
BEGIN:STANDARD
TZOFFSETFROM:+0000
TZOFFSETTO:+0000
TZNAME:UTC
DTSTART:20230101T000000
END:STANDARD
END:VTIMEZONE
BEGIN:VEVENT
DTSTART;VALUE=DATE:20240525
DTEND;VALUE=DATE:20240526
DTSTAMP:20260421T103917
CREATED:20240219T173916Z
LAST-MODIFIED:20240219T173927Z
UID:4075-1716595200-1716681599@smalandstradgard.com
SUMMARY:Klassfotboll
DESCRIPTION:Klassfotboll – https://vsgf.se/klassfotboll/?fbclid=IwAR2_Kjsz73XGPM9J6yfqOyZhiB7hylRYCCD3lO0Jw8668iG82WIh8EaeXpY
URL:https://smalandstradgard.com/event/klassfotboll-2/
LOCATION:Virumsvallen\, Virumsvallen\, Virserum\, Sverige
ATTACH;FMTTYPE=image/jpeg:https://smalandstradgard.com/wp-content/uploads/2024/02/Inbjudan-klassfotboll-2024-VSGF_klar-scaled.jpg
END:VEVENT
BEGIN:VEVENT
DTSTART;VALUE=DATE:20240519
DTEND;VALUE=DATE:20240520
DTSTAMP:20260421T103917
CREATED:20240403T135456Z
LAST-MODIFIED:20240403T135456Z
UID:4208-1716076800-1716163199@smalandstradgard.com
SUMMARY:Upptäckarda´n 2024
DESCRIPTION:Aktiviteter och öppet på Bolagsområdet och Hembygdsparken i Virserum. Boda Smide\, Hässlid Form och Design Shop och Café Tre Systrar har öppet. \nhttps://upptackardan.se/hultsfred-och-vimmerby/hultsfreds-kommun/virserum/
URL:https://smalandstradgard.com/event/upptackardan-2024/
END:VEVENT
BEGIN:VEVENT
DTSTART;TZID=UTC:20240506T170000
DTEND;TZID=UTC:20240506T183000
DTSTAMP:20260421T103917
CREATED:20240403T140454Z
LAST-MODIFIED:20240403T140454Z
UID:4223-1715014800-1715020200@smalandstradgard.com
SUMMARY:Workshop “Elin Wägner” på Virserums konsthall i Virserum
DESCRIPTION:Vision-boards & Elin Wägner\nElin Wägners litteratur har gjort henne känd inom den\nsvenska feministiska historian. Vi samtalar om några utav\nhennes texter\, framtidsvisioner och krav på förändring. Hur\nser det ut idag\, hade Wägner varit nöjd? \nUtifrån samtalet skapar vi en vision-board. En vision-board\när ett kollage utav bilder\, texter och målningar som visar\nens drömmar om visioner. De fungerar som en källa till\ninspiration och motivation\, i detta fall för en jämställd värld. \nAnmälan sker på https://visithultsfred.se/ eller genom att kontakta\nbiblioteket.
URL:https://smalandstradgard.com/event/workshop-elin-wagner-pa-virserums-konsthall-i-virserum/
END:VEVENT
BEGIN:VEVENT
DTSTART;TZID=UTC:20240505T110000
DTEND;TZID=UTC:20240505T150000
DTSTAMP:20260421T103917
CREATED:20240417T174848Z
LAST-MODIFIED:20240429T120711Z
UID:4252-1714906800-1714921200@smalandstradgard.com
SUMMARY:Invigning av fågeltornet vid Smedbälgen\, Nye.
DESCRIPTION:Projektet är ett samarbete mellan Vetlanda kommun och markägarna och har möjliggjorts tack vare bidrag från Stiftelsen Werner von Seydlitz och LONA – Lokala naturvårdssatsningen. Smedbälgen är en näringsrik sjö där omgivande våtmarker bjuder på variationsrika miljöer. Här finns öppna kärr\, sumpskogar och videbuskage. Betesdjur håller markerna öppna. Smedbälgen är en intressant fågellokal där flera rödlistade arter observerats. Genom fågeltornet ska fler ges möjlighet att uppleva fågellivet och naturen vid sjön. Här finns en parkering\, en markerad stig som slingrar sig genom vackra betesmarker ut till fågeltornet byggt i två våningar. Här finns också en trevlig fika- och grillplats. Besökaren kan även göra en avstickare till en närliggande borgruin. \nVälkommen till invigningen! \nDet här är en programpunkt under Vårfestivalen i Smålands Trädgård. \nSussie Nielsen\, vice ordf Vetlanda Ornitologiska Klubb inviger fågeltornet klockan 11.00
URL:https://smalandstradgard.com/event/invigning-av-fageltornet-vid-smedbalgen-nye/
ATTACH;FMTTYPE=image/jpeg:https://smalandstradgard.com/wp-content/uploads/2024/04/Fageltornet-4.jpg
END:VEVENT
BEGIN:VEVENT
DTSTART;TZID=UTC:20240504T110000
DTEND;TZID=UTC:20240504T150000
DTSTAMP:20260421T103917
CREATED:20240417T174734Z
LAST-MODIFIED:20240429T120623Z
UID:4248-1714820400-1714834800@smalandstradgard.com
SUMMARY:Invigning av projektet "Sagor och sägner"
DESCRIPTION:”Sagor och sägner” är ett projekt inom Smålands Trädgård ekonomiska förening som snart står klart att presenteras. Ställ in dig på en resa till spännande utflyktsmål för hela familjen i vackra Smålands Trädgård. \nI Smålands Trädgård har en genomgång av sagor och sägner gjorts under 2023\, ett antal har valts ut för att exponeras i så kallade sägenskåp placerade i landskapet. Det är ett unikt projekt som bara finns på en plats i Sverige tidigare\, i Sagobygden. https://sagobygden.se/sv/ \nSkåpen ska ställas ut i nära anslutning där respektive sägen sägs ha ägt rum\, totalt 10 sägenskåp. Att besöka en sägenplats blir lite av en upptäcktsfärd och minner om händelser som skett långt tillbaka i tiden. Det är en färd till natursköna platser\, glömda sevärdheter och ett sätt att lära känna människors liv och leverne förr i tiden. Det blir ett utflyktsmål och ett äventyr för alla som tycker om spännande berättelser. \nVälkommen till invigningen av ett unikt projekt när det immateriella kulturarvet i Smålands Trädgård invigs! \nDet här är en programpunkt under Vårfestivalen i Smålands Trädgård. \nMagnus Färjhage\, kommundirektör Vetlanda kommun\, inviger projektet klockan 11.00
URL:https://smalandstradgard.com/event/invigning-av-projektet-sagor-och-sagner/
LOCATION:Näshults bygdegård
ATTACH;FMTTYPE=image/jpeg:https://smalandstradgard.com/wp-content/uploads/2024/04/Sagenskap-Trollebo.jpg
END:VEVENT
BEGIN:VEVENT
DTSTART;VALUE=DATE:20240504
DTEND;VALUE=DATE:20241013
DTSTAMP:20260421T103917
CREATED:20240403T135137Z
LAST-MODIFIED:20240403T135137Z
UID:4202-1714780800-1728777599@smalandstradgard.com
SUMMARY:Dackestupet - Cykel
DESCRIPTION:Öppettider Lift\nTyp av lift: T-Bygel (&quot;Ankare&quot;)\nVår\nLördag 4/5 kl.10-16\nLördag 11/5 kl.10-16\nLördag  25/5 kl.10-16\nFredag 7/6 kl.10-16 (Träningsdag Götaland Downhill Series)\nHöst\nLördag 10/8 kl.10-16\nLördag 24/8 kl.13-18 (Kul på hjul i Dackestupet)\nLördag 21/9 kl.10-16\nLördag 12/10 kl.10-16 (Träningsdag Götaland Enduro Series)\nDackestupet i Virserum erbjuder varierande mountainbikecykling. 8 st nedfartsleder\, bl.a. så\nkallad flow trail på 1050 meter\, stigcykling med olika svårighetsgrader samt teknikslinga.\nLederna är tillgängliga även om liften inte är öppen. Använd gärna klättringsleden för att ta\ndig tillbaka till toppen.\nMer info samt bokning av bikepass på hemsidan\, https://www.dackestupet.com/sommar/
URL:https://smalandstradgard.com/event/dackestupet-cykel/
LOCATION:Dackestupet\, Dackestupet\, Virserum\, Sverige
ATTACH;FMTTYPE=image/png:https://smalandstradgard.com/wp-content/uploads/2024/04/Skarmbild-2024-04-03-155100.png
END:VEVENT
BEGIN:VEVENT
DTSTART;VALUE=DATE:20240504
DTEND;VALUE=DATE:20240506
DTSTAMP:20260421T103917
CREATED:20240117T215828Z
LAST-MODIFIED:20240503T102856Z
UID:3967-1714780800-1714953599@smalandstradgard.com
SUMMARY:Vårfestivalen 2024
DESCRIPTION:Vårfestivalen bjuder på fantastiska besöksmål i det vackra Smålands Trädgård! Här öppnar medlemmar i Smålands Trädgård upp sina verksamheter och du kan ta del av djur\, natur\, kulturhistoria\, gårdsmiljöer\, hantverk\, trädgård\, byggnadsvård\, idrott\, mat\, fika och mycket mer. Här finns något för alla. Mer info hittar du under ”Vårfestivalen” \nVårfestival \n\n \nhttps://smalandstradgard.com/wp-content/uploads/2024/05/festivalprogram_2024_digital-1-1.pdf
URL:https://smalandstradgard.com/event/varfestivalen-2024/
ATTACH;FMTTYPE=image/png:https://smalandstradgard.com/wp-content/uploads/2024/01/Skarmbild-2024-01-17-225302.png
END:VEVENT
BEGIN:VEVENT
DTSTART;TZID=UTC:20240501T170000
DTEND;TZID=UTC:20240523T190000
DTSTAMP:20260421T103917
CREATED:20240417T175450Z
LAST-MODIFIED:20240417T175450Z
UID:4256-1714582800-1716490800@smalandstradgard.com
SUMMARY:Kravlöst
DESCRIPTION:Inspiration\, pepp\, något gott att äta och en härlig miljö. Kom och fyll på med kunskap\, gemenskap och jävlaranamma!
URL:https://smalandstradgard.com/event/kravlost/
LOCATION:Ädelboa\, Ädelfors
ATTACH;FMTTYPE=image/png:https://smalandstradgard.com/wp-content/uploads/2024/04/Kravlost-Adelboa.png
END:VEVENT
BEGIN:VEVENT
DTSTART;VALUE=DATE:20240430
DTEND;VALUE=DATE:20240501
DTSTAMP:20260421T103917
CREATED:20240428T184406Z
LAST-MODIFIED:20240428T184406Z
UID:4303-1714435200-1714521599@smalandstradgard.com
SUMMARY:Valborgsfirande i Smålands Trädgård
DESCRIPTION:Fira Valborg i Smålands Trädgård med brasa\, sång och vårtal! \nStenberga Hembygdsgård kl.20.00\, http://www.stenberga.nu/Event.aspx?societyId=0&businessId=0&year=2024&eventId=1485 \n  \nFarstorp\, Mickelstorpsvägen\, kl. 21\, https://www.nyemissionsforsamling.se/post/fira-valborg-i-farstorp \n  \nNäshult\, Serarpasjön kl.20.15\, http://nashult.se/c/event/e/valborgsmassoafton-vid-serarpasjon-2024-04-30 \n  \nSkirö\, Gästbryggan kl. 21.00 mer info https://skiro.se/ \n  \nVirserum kl. 19 Strömsholmen i Virserum\, https://www.facebook.com/events/str%C3%B6msholmen-se-577-72-virserum-sverige/valborgsfirande-p%C3%A5-str%C3%B6msholmen-i-virserum/907010244551952/
URL:https://smalandstradgard.com/event/valborgsfirande-i-smalands-tradgard/
ATTACH;FMTTYPE=image/webp:https://smalandstradgard.com/wp-content/uploads/2024/04/Valborg.webp
END:VEVENT
BEGIN:VEVENT
DTSTART;VALUE=DATE:20240429
DTEND;VALUE=DATE:20240518
DTSTAMP:20260421T103917
CREATED:20240429T085352Z
LAST-MODIFIED:20240429T085352Z
UID:4309-1714348800-1715990399@smalandstradgard.com
SUMMARY:Coworking i Nye
DESCRIPTION:Välkomna till vår tredje testperiod som vi nu kör i Nye församlingshem i samarbete med Svenska kyrkan.\n\nTill och med vecka 16 testar vi på att arbeta tillsammans i de allsidiga lokalerna som finns i Nye församlingshem. Tillsammans utforskar vi om en coworkingverksamhet kan vara ett sätt attöka nyttjandet av landsbygdens lokaler.\n\nI Nye kan du sitta öppet med andra eller boka ett eget rum\, vi har också begränsat till enstaka dagar I veckan. Skriv till Cowork.smtr@gmail.com för att få mer information om vilka dagar du kan boka och hur du bokar plats.\n\nVarmt välkomna!
URL:https://smalandstradgard.com/event/coworking-i-nye/
ATTACH;FMTTYPE=image/jpeg:https://smalandstradgard.com/wp-content/uploads/2024/04/IMG_20240423_155604_924.jpg
END:VEVENT
BEGIN:VEVENT
DTSTART;TZID=UTC:20240424T183000
DTEND;TZID=UTC:20240424T210000
DTSTAMP:20260421T103917
CREATED:20240417T180715Z
LAST-MODIFIED:20240417T180746Z
UID:4274-1713983400-1713992400@smalandstradgard.com
SUMMARY:Årsmöte
DESCRIPTION:ÅRSSTÄMMA I SMÅLANDS TRÄDGÅRD EK. FÖR.\nDen 24 april kl.18.30 är du som medlem i Smålands Trädgård ek. för. varmt välkommen till\nårsstämman som äger rum på Bolaget Hembygdsförening\, Kyrkogatan 34\, Virserum.\nUnder årsstämman kommer Per Rosander\, festivalgeneral för Vårfestivalen\, informera om\nårets Vårfestival som äger rum den 4 – 5 maj och Veronica Salomons kommer att informera\nom det unika projektet ”Myter och Sägner” i Smålands trädgård.\nEfter årsstämman blir det en intressant och högaktuell föreläsning med Henrik Staffansson\noch Joakim Söderberg från E.ON som föreläser under rubriken ”Hur skapar vi tillsammans en\nrobustare elförsörjning i Smålands Trädgård?”.\nFöreläsningen är särskilt intressant\, inte minst på grund av en kraftigt växande efterfrågan på\nel till följd av förändringen av klimatet\, och på grund av det säkerhetspolitiska läget. Förr var\ndet enbart en nationell angelägenhet att producera och leverera el. Numera är det många som\nbidrar till elförsörjningen genom investeringar i solenergi\, vindkraft och batterilager för att ta\nnågra exempel. Hur kan vi som bor och verkar här i Smålands Trädgård bidra och skapa det\nrobusta Smålands Trädgård? Det här och mycket mer kommer du få svar på under kvällen. Vi\nhoppas att du har möjlighet att delta i en viktig\, intressant och fullspäckad kväll!\nVi bjuder på en lättare förtäring. Anmäl ditt deltagande till helena@lovisen.se\, före den 20\napril.\nVälkommen!
URL:https://smalandstradgard.com/event/arsmote/
ATTACH;FMTTYPE=image/jpeg:https://smalandstradgard.com/wp-content/uploads/2024/04/valkommen-arsmote1.jpg
END:VEVENT
BEGIN:VEVENT
DTSTART;VALUE=DATE:20240420
DTEND;VALUE=DATE:20240421
DTSTAMP:20260421T103917
CREATED:20240403T140139Z
LAST-MODIFIED:20240403T140139Z
UID:4220-1713571200-1713657599@smalandstradgard.com
SUMMARY:HÅLLBAR KONSUMTION – VIRSERUMS KONSTHALL
DESCRIPTION:Invigning den 20 april – plan 2  \nVirserums Konsthall tillsammans med Mistra Sustainable Consumption kommer tillsammans med konstnärerna Hillevi Cecilia Högström\, Finn Ahlgren och Lars Noväng skapa en utställning kring hållbar konsumtion och konsumtionens roll i framtiden. Hur ser hållbar konsumtion ser ut? Finns den? Kan konsumtion vara hållbar? \nVi lever idag i ett samhälle där konsumtionen är motorn i ekonomin\, hur kan vi egentligen förändra detta beteende? Varje del i samhället har en roll att ifrågasätta detta mönster av beteenden. I detta samarbete möts konsten och vetenskapen med fokus på dagens ohållbara konsumtion\, en process och utställning som vi på Virserums Konsthall ser som betydelsefullt.
URL:https://smalandstradgard.com/event/hallbar-konsumtion-virserums-konsthall/
ATTACH;FMTTYPE=image/jpeg:https://smalandstradgard.com/wp-content/uploads/2024/02/FB_IMG_1688328383732.jpg
END:VEVENT
BEGIN:VEVENT
DTSTART;TZID=UTC:20240417T180000
DTEND;TZID=UTC:20240417T203000
DTSTAMP:20260421T103917
CREATED:20240219T152009Z
LAST-MODIFIED:20240219T152009Z
UID:4069-1713376800-1713385800@smalandstradgard.com
SUMMARY:Café och berättarkvällar i Dackesalen kl 18.00 - ca 20.30
DESCRIPTION:Café och berättarkvällar i Dackesalen kl 18.00 – ca 20.30. Entré för medlemmar 100 kr. Kaffe och macka i pausen ingår. \n21 februari\n13 mars\n17 april \nhttps://www.hembygd.se/virserumskulturochforeningscentrum
URL:https://smalandstradgard.com/event/cafe-och-berattarkvallar-i-dackesalen-kl-18-00-ca-20-30/
LOCATION:Bolaget Virserum\, Virserum\, Sverige
ATTACH;FMTTYPE=image/png:https://smalandstradgard.com/wp-content/uploads/2024/02/Skarmbild-2024-02-19-161639.png
END:VEVENT
BEGIN:VEVENT
DTSTART;TZID=UTC:20240417T180000
DTEND;TZID=UTC:20240417T200000
DTSTAMP:20260421T103917
CREATED:20240403T135355Z
LAST-MODIFIED:20240403T135355Z
UID:4205-1713376800-1713384000@smalandstradgard.com
SUMMARY:Café och berättarkväll i Dackesalen\, Bolagsområdet Virserum
DESCRIPTION:Ninnie Edheimer berättar och visar minnen från en svunnen tid i Virserum. \nEntré för medlemmar 100 kr. Kaffe och smörgås i pausen ingår. \nhttps://www.hembygd.se/virserumskulturochforeningscentrum
URL:https://smalandstradgard.com/event/cafe-och-berattarkvall-i-dackesalen-bolagsomradet-virserum/
LOCATION:Bolaget Virserum\, Virserum\, Sverige
ATTACH;FMTTYPE=image/png:https://smalandstradgard.com/wp-content/uploads/2024/04/Skarmbild-2024-04-03-155312.png
END:VEVENT
BEGIN:VEVENT
DTSTART;TZID=UTC:20240403T080000
DTEND;TZID=UTC:20240403T170000
DTSTAMP:20260421T103917
CREATED:20240403T135522Z
LAST-MODIFIED:20240403T135522Z
UID:4210-1712131200-1712163600@smalandstradgard.com
SUMMARY:18/8 Moas Minneslopp
DESCRIPTION:mer info kommer
URL:https://smalandstradgard.com/event/18-8-moas-minneslopp/
END:VEVENT
BEGIN:VEVENT
DTSTART;VALUE=DATE:20240402
DTEND;VALUE=DATE:20240406
DTSTAMP:20260421T103917
CREATED:20240319T112836Z
LAST-MODIFIED:20240319T112836Z
UID:4115-1712016000-1712361599@smalandstradgard.com
SUMMARY:Kontor i skogen
DESCRIPTION:Testmiljö nummer två i förstudien för Leader – projektet innovativa arbetsmiljöer i Smålands Trädgård flyttar ut i skogen\, närmare bestämt till ”Ecolyxen”\, i samarbete med Lövsjö Loghouse. Under två veckor har du en unik möjlighet att testa coworking på en sjönära\, vacker plats i skogen tillsammans med andra. Lövsjö Loghouse ligger strax utanför Näshult mot Åseda. \nMaila cowork.smtr@gmail.com om du är intresserad av att komma och testa coworking så får du mer information. Välkommen!
URL:https://smalandstradgard.com/event/kontor-i-skogen-2/
ATTACH;FMTTYPE=image/png:https://smalandstradgard.com/wp-content/uploads/2024/03/Kontor-i-skogen-cowork.png
END:VEVENT
BEGIN:VEVENT
DTSTART;TZID=UTC:20240329T110000
DTEND;TZID=UTC:20240329T160000
DTSTAMP:20260421T103917
CREATED:20240304T231042Z
LAST-MODIFIED:20240304T231042Z
UID:4102-1711710000-1711728000@smalandstradgard.com
SUMMARY:Påskmarknad i Ädelfors
DESCRIPTION:– Handplockade utställare med olika hantverk\n– Korvgrillning\n– Fika i gamla skolan i Ädelfors\n– Tipsrunda\n– Lotterier\n– Stort utbud av penséer\, charmiga inredningsprylar och kransverkstad hos butiken Ädelboa.\nKom och bind en egen krans!\nMarknaden äger rum vid gamla skolan i Ädelfors och vid butiken Ädelboa. Följ skyltarna vid\nankomst. Evenemanget arrangeras i samarbete med butiken Ädelboa och Ädelfors IF.\nInfo Instagram @adelboainsta och https://www.adelboa.se/\nVälkommen!
URL:https://smalandstradgard.com/event/paskmarknad-i-adelfors/
ATTACH;FMTTYPE=image/png:https://smalandstradgard.com/wp-content/uploads/2024/03/Paskmarknad-Adelboa-2024.png
END:VEVENT
BEGIN:VEVENT
DTSTART;TZID=UTC:20240329T110000
DTEND;TZID=UTC:20240329T150000
DTSTAMP:20260421T103917
CREATED:20240304T231202Z
LAST-MODIFIED:20240304T231202Z
UID:4106-1711710000-1711724400@smalandstradgard.com
SUMMARY:Äggjakt hos Loaklev Lustgård i Skirö
DESCRIPTION:Den populära äggjakten hos Loaklev Lustgård är tillbaka i år igen!\nNi får följa ledtrådar på gården och i skogen för att slutligen hitta fram till påskharens\nhemliga gömställe där han\, om ni har tur\, har gömt äggen…\nKostnad 50kr per barn och vuxen.\nOBS! EVENEMANGET BOKAS SENAST 25/3 OCH BETALAS I FÖRSKOTT!\nAnmäl er via DM på Instagram @loaklevlustgard eller via mail mikaelaiskiro@hotmail.com\nKorv med bröd\, hamburgare och fika finns till försäljning. Gårdsbutiken är öppen.\nKläder efter väder.\nInfo Instagram @loaklevlustgard\nVälkommen!
URL:https://smalandstradgard.com/event/aggjakt-hos-loaklev-lustgard-i-skiro/
ATTACH;FMTTYPE=image/png:https://smalandstradgard.com/wp-content/uploads/2024/03/Aggjakt-Loaklev-2024.png
END:VEVENT
BEGIN:VEVENT
DTSTART;VALUE=DATE:20240325
DTEND;VALUE=DATE:20240329
DTSTAMP:20260421T103917
CREATED:20240319T112750Z
LAST-MODIFIED:20240319T112750Z
UID:4112-1711324800-1711670399@smalandstradgard.com
SUMMARY:Kontor i skogen
DESCRIPTION:25-28 mars & 2-5 april \nTestmiljö nummer två i förstudien för Leader – projektet innovativa arbetsmiljöer i Smålands Trädgård flyttar ut i skogen\, närmare bestämt till ”Ecolyxen”\, i samarbete med Lövsjö Loghouse. Under två veckor har du en unik möjlighet att testa coworking på en sjönära\, vacker plats i skogen tillsammans med andra. Lövsjö Loghouse ligger strax utanför Näshult mot Åseda. \nMaila cowork.smtr@gmail.com om du är intresserad av att komma och testa coworking så får du mer information. Välkommen!
URL:https://smalandstradgard.com/event/kontor-i-skogen/
ATTACH;FMTTYPE=image/png:https://smalandstradgard.com/wp-content/uploads/2024/03/Kontor-i-skogen-cowork.png
END:VEVENT
BEGIN:VEVENT
DTSTART;VALUE=DATE:20240316
DTEND;VALUE=DATE:20240317
DTSTAMP:20260421T103917
CREATED:20240219T160238Z
LAST-MODIFIED:20240219T160238Z
UID:4072-1710547200-1710633599@smalandstradgard.com
SUMMARY:Mosters lilla kung - Riksteatern
DESCRIPTION:Riksteatern \nLördag 16 mars 2024 \nMosters lilla kung\n500 år sedan Gusta Vasa tog tronen \nArboga Teatern på besök på Kulturhuset i Virserum i samarbete med Riksteatern. \n  \nhttps://ivirserum.se/aktuella-evenemang/
URL:https://smalandstradgard.com/event/mosters-lilla-kung-riksteatern/
ATTACH;FMTTYPE=image/png:https://smalandstradgard.com/wp-content/uploads/2024/02/Skarmbild-2024-02-19-162032.png
END:VEVENT
BEGIN:VEVENT
DTSTART;TZID=UTC:20240307T100000
DTEND;TZID=UTC:20240308T160000
DTSTAMP:20260421T103917
CREATED:20240325T155519Z
LAST-MODIFIED:20240325T155519Z
UID:4139-1709805600-1709913600@smalandstradgard.com
SUMMARY:Fika\, tipsrunda & skattjakt hos Nyefiket
DESCRIPTION:
URL:https://smalandstradgard.com/event/fika-tipsrunda-skattjakt-hos-nyefiket/
ATTACH;FMTTYPE=image/png:https://smalandstradgard.com/wp-content/uploads/2024/03/Skarmbild-2024-03-25-165310.png
END:VEVENT
BEGIN:VEVENT
DTSTART;TZID=UTC:20240224T100000
DTEND;TZID=UTC:20240224T150000
DTSTAMP:20260421T103917
CREATED:20240108T181135Z
LAST-MODIFIED:20240223T100623Z
UID:3909-1708768800-1708786800@smalandstradgard.com
SUMMARY:Näshults Vintermarknad
DESCRIPTION:Nu är det äntligen dags för Näshults Vintermarknad 2024. För elfte gången hålls vinterns stora evenemang på Småländska Höglandet i Smålands Trädgård\, lördagen den 24:e februari 2024\, kl.10.00 -15.00.
URL:https://smalandstradgard.com/event/nashults-vintermarknad/
ATTACH;FMTTYPE=image/png:https://smalandstradgard.com/wp-content/uploads/2024/01/Screenshot-2024-01-03-at-14-39-29-Nashults-Vintermarknad.png
END:VEVENT
BEGIN:VEVENT
DTSTART;TZID=UTC:20240201T110000
DTEND;TZID=UTC:20240203T120000
DTSTAMP:20260421T103917
CREATED:20240108T181846Z
LAST-MODIFIED:20240108T181906Z
UID:3919-1706785200-1706961600@smalandstradgard.com
SUMMARY:SmåLit 2-3 februari 2023\, Jönköping
DESCRIPTION:SmåLit 2024 firas i Värnamo och Jönköping. Myller\, idédebatt och läsinspiration för alla åldrar. Fördjupande och angelägna scensamtal. Vi kommer att delta med boken ”I det ljusa Småland” i Jönköping den 3 februari kl.11.15 – 11.45\, Arkivscenen.\n\n\nHär kan du ta del av hela programmet: \nhttps://smalit.org/program/
URL:https://smalandstradgard.com/event/smalit-2-3-februari-2023-jonkoping/
ATTACH;FMTTYPE=image/jpeg:https://smalandstradgard.com/wp-content/uploads/2024/01/Smalit-2.jpg
END:VEVENT
BEGIN:VEVENT
DTSTART;VALUE=DATE:20240122
DTEND;VALUE=DATE:20240304
DTSTAMP:20260421T103917
CREATED:20240108T181655Z
LAST-MODIFIED:20240129T172426Z
UID:3916-1705881600-1709510399@smalandstradgard.com
SUMMARY:Välkommen att testa coworking i Skirögården!
DESCRIPTION:Välkommen att testa coworking i Smålands Trädgård! \nNu har du chans att testa coworking i Smålands Trädgård. Är du egenföretagare eller frilansare? Vill du testa på hur det är att sitta och jobba med andra i liknande situation\, bredda ditt nätverk och samtidigt få möjlighet till inspiration? \nKom och testa hur det är att jobba i ett grannskapskontor tillsammans med andra. Du är välkommen någon enstaka dag/dagar eller under hela testperioden. \nTid: 22 januari-3 mars \nPlats: Skirögården\, Skirö \nFör frågor och intresseanmälan att delta maila  cowork.smtr@gmail.com mer information skickas ut vid intresseanmälan.
URL:https://smalandstradgard.com/event/valkommen-att-testa-coworking-i-skirogarden/
ATTACH;FMTTYPE=image/jpeg:https://smalandstradgard.com/wp-content/uploads/2024/01/cowork-fb-bild.jpg
END:VEVENT
BEGIN:VEVENT
DTSTART;TZID=UTC:20240116T180000
DTEND;TZID=UTC:20240116T203000
DTSTAMP:20260421T103917
CREATED:20231218T221652Z
LAST-MODIFIED:20231218T221652Z
UID:3895-1705428000-1705437000@smalandstradgard.com
SUMMARY:Välkommen att anmäla dig till studiecirkeln runt boken "I det ljusa Småland"
DESCRIPTION:Välkommen på en studiecirkel runt boken ” I det ljusa Småland” Vi läser vissa avsnitt tillsammans och vissa avsnitt enskilt.\nDiskuterar och lär oss om vår bygds historia\, geografi och mycket mer. Cirkeln kan även innehålla studiebesök på historiskt intressanta ställen i bygden. Ev föreläsningar av författare till boken. Cirkeln bygger på deltagarnas önskemål och förväntningar. \nFÖRKUNSKAPER\nInga förkunskaper krävs. \nBRA ATT VETA\nVi träffas varannan vecka i Nye hembygdsförenings lokal på Myrisbodavägen 15.\nBra om man har boken ”I det ljusa Småland”\nKursen genomförs i samarbete med Nye hembygdsförening. \nLEDARE\nKarl-Eric Karlsson\, Mats Gerebrink \nFRÅGOR\nKontakta Tina Andreasson\, Verksamhetsutvecklare\, 0383-75 51 80\, tina.andreasson@sv.se
URL:https://smalandstradgard.com/event/valkommen-att-anmala-dig-till-studiecirkeln-runt-boken-i-det-ljusa-smaland/
LOCATION:Nye Hembygdsförenings lokal\, Myrisbodavägen 15
ATTACH;FMTTYPE=image/jpeg:https://smalandstradgard.com/wp-content/uploads/2023/12/Framsida-boken.jpg
END:VEVENT
BEGIN:VEVENT
DTSTART;TZID=UTC:20231209T130000
DTEND;TZID=UTC:20231209T170000
DTSTAMP:20260421T103917
CREATED:20231122T135837Z
LAST-MODIFIED:20231122T135941Z
UID:3734-1702126800-1702141200@smalandstradgard.com
SUMMARY:Julmarknad i Mamrelund
DESCRIPTION:Julmarknad i Mamrelund\, lördagen 9 december kl.13-17.00\n\nSkriv upp lördag 9 december! Då blir det tredje året vi öppnar upp till julmarknad i Mamrelund kl 13-17! Det blir mat\, hantverk\, godis\, bröd\, lammskinn\, stickat och virkat och mycket mycket mer! Tomtenissar kommer med din häst\, julens toner klingar och doften av marschaller\, eldkorgar och granris sprider sig över området! Vi hoppas på ett tredje år med snö\, minst lika många trevliga besökare som tidigare men framförallt att ni som kommer finner julefriden!\nVarmt välkomna till Mamrelund önskar @judith.brodobakverk & @sjolundshantverk\n\n\n\n\n\n\n\n\n \n\n\n\n\n\n\n\n\n\n\n\n\n\n\n\n\n\n\n\n\n\n\n\n\n\n\n\n 
URL:https://smalandstradgard.com/event/julmarknad-i-mamrelund/
ATTACH;FMTTYPE=image/png:https://smalandstradgard.com/wp-content/uploads/2023/11/Julmarknad-Mamrelund.png
END:VEVENT
BEGIN:VEVENT
DTSTART;TZID=UTC:20231208T180000
DTEND;TZID=UTC:20231208T200000
DTSTAMP:20260421T103917
CREATED:20231106T192914Z
LAST-MODIFIED:20231108T152147Z
UID:3720-1702058400-1702065600@smalandstradgard.com
SUMMARY:Adventsmys utanför Stenbergabutiken
DESCRIPTION:Fredagen före andra advent är det återigen dags för adventsmys utanför Stenbergabutiken.\nVälkommen att möta lokala utställare som säljer honung\, kransar\, fårskinn\, garn\, tvålar och\nannat hantverk och mathantverk\, lokala föreningar\, grannar samt gamla och nya\nbekantskaper. Det blir tomtesmyg för barnen och möjlighet att få i sig något varmt och\nmatigt.\nDu kan också passa på att titta på Stenbergabutikens julsortimentet och planera julmaten i\nden populära jul-listan. \nFredagen den 8 december kl. 18-20\nVälkommen!
URL:https://smalandstradgard.com/event/adventsmys-utanfor-stenbergabutiken-2/
LOCATION:stenberga\, 57497\, Sverige
ATTACH;FMTTYPE=image/jpeg:https://smalandstradgard.com/wp-content/uploads/2023/11/Adventsmys.jpg
END:VEVENT
BEGIN:VEVENT
DTSTART;TZID=UTC:20231207T170000
DTEND;TZID=UTC:20231207T190000
DTSTAMP:20260421T103917
CREATED:20231122T140240Z
LAST-MODIFIED:20231122T140240Z
UID:3737-1701968400-1701975600@smalandstradgard.com
SUMMARY:Författarkväll med boksignering och mingel på NK Bokhandel Stockholm
DESCRIPTION:7 december kl.17-19.00\, Författarkväll med boksignering och mingel på NK Bokhandel Stockholm med författarna Olof Karlander och Marie Hafström. OSA senast 5/12 info@arenabok.se. Varmt välkommen!
URL:https://smalandstradgard.com/event/forfattarkvall-med-boksignering-och-mingel-pa-nk-bokhandel-stockholm/
LOCATION:Stockholm
ATTACH;FMTTYPE=image/png:https://smalandstradgard.com/wp-content/uploads/2023/11/Skarmbild-2023-11-22-150019.png
END:VEVENT
BEGIN:VEVENT
DTSTART;VALUE=DATE:20231206
DTEND;VALUE=DATE:20231209
DTSTAMP:20260421T103917
CREATED:20231128T125811Z
LAST-MODIFIED:20231128T125811Z
UID:3881-1701820800-1702079999@smalandstradgard.com
SUMMARY:Jul i stan
DESCRIPTION:”Jul i stan” – en av årets höjdpunkter i Vetlanda!\nEn härlig blandning av allt från finstämd psalm till rock´n roll! Det är innehållsdeklarationen\nför ”Jul i stan”\, som är höglandets största julshow. I år arrangeras julshowen den 6\, 7 och 8\ndecember i Withalasalen i Vetlanda.\nI årets julshow medverkar tio solister\, nio musiker samt Näsbykören. Kapellmästare är Peter\nHedström\, precis som alla tidigare år.\n”Jul i stan” arrangeras av Skirö AIK. Biljetter säljs på https://nortic.se/ticket/event/50435 och\npå Vetlanda Bibliotek.\nFotocred: Erik Hellquist
URL:https://smalandstradgard.com/event/jul-i-stan/
LOCATION:Vetlanda
ATTACH;FMTTYPE=image/jpeg:https://smalandstradgard.com/wp-content/uploads/2023/11/jul_i_stan_2019_117-scaled.jpg
END:VEVENT
BEGIN:VEVENT
DTSTART;TZID=UTC:20231202T180000
DTEND;TZID=UTC:20231202T180000
DTSTAMP:20260421T103917
CREATED:20231108T151718Z
LAST-MODIFIED:20231108T152123Z
UID:3730-1701540000-1701540000@smalandstradgard.com
SUMMARY:Adventsmusik den 2 december kl.18.00 i Nye kyrka
DESCRIPTION:Första advent är här\, välkommen att njuta av en stämningsfull adventskonsert i Nye kyrka. Ceciliakören\, Kyrkokören och instrumentalister medverkar under ledning av kantor Veronica Salmons.
URL:https://smalandstradgard.com/event/adventsmusik-den-2-december-kl-18-00-i-nye-kyrka/
LOCATION:Nye
ATTACH;FMTTYPE=image/jpeg:https://smalandstradgard.com/wp-content/uploads/2022/06/nye.jpg
END:VEVENT
END:VCALENDAR