BEGIN:VCALENDAR
VERSION:2.0
PRODID:-//Smålands Trädgård - ECPv6.11.1//NONSGML v1.0//EN
CALSCALE:GREGORIAN
METHOD:PUBLISH
X-WR-CALNAME:Smålands Trädgård
X-ORIGINAL-URL:https://smalandstradgard.com
X-WR-CALDESC:Events for Smålands Trädgård
REFRESH-INTERVAL;VALUE=DURATION:PT1H
X-Robots-Tag:noindex
X-PUBLISHED-TTL:PT1H
BEGIN:VTIMEZONE
TZID:UTC
BEGIN:STANDARD
TZOFFSETFROM:+0000
TZOFFSETTO:+0000
TZNAME:UTC
DTSTART:20240101T000000
END:STANDARD
END:VTIMEZONE
BEGIN:VEVENT
DTSTART;TZID=UTC:20240921T110000
DTEND;TZID=UTC:20240921T150000
DTSTAMP:20260421T103802
CREATED:20240805T192820Z
LAST-MODIFIED:20240805T192849Z
UID:4573-1726916400-1726930800@smalandstradgard.com
SUMMARY:Äppelfest i Ädelfors
DESCRIPTION:Lördagen den 21 september kl.11-15.00 bjuder Ädelboa och Loaklev Lustgård in till Äppelfest för hela familjen.\nFörsäljning av hantverk av olika slag\, lokalt tillverkad äppelmust och annat gott. Det blir tipsrunda\, livemusik\, lotteri och äppelpajstävling. Hälsa på djuren\, som tillfälligt kommer på besök. Ta en fika\, ät en bit närproducerad mat och njut av omgivningen.\nVälkomna till Äppelfesten i Ädelboa i Ädelfors!
URL:https://smalandstradgard.com/event/appelfest-i-adelfors/
LOCATION:Ädelboa\, Ädelfors
ATTACH;FMTTYPE=image/jpeg:https://smalandstradgard.com/wp-content/uploads/2024/08/Appelfest-2024.jpg
END:VEVENT
BEGIN:VEVENT
DTSTART;TZID=UTC:20240919T180000
DTEND;TZID=UTC:20240919T180000
DTSTAMP:20260421T103802
CREATED:20240909T132254Z
LAST-MODIFIED:20240909T132254Z
UID:4688-1726768800-1726768800@smalandstradgard.com
SUMMARY:A Celebration of Apple
DESCRIPTION:En kväll med äpplet i fokus.\n\n\n\nPapillon café boutique restaurant\n\n\ni Näshult serverar en trerättersmiddag där varje rätt har äpple i sig. \nKenth Svensson från Björkbackens musteri i Näsby föreläser under kvällen om bl.a. mustning. Kenth har med sig en passande must till varje rätt.\n\nKostnad 440 kr/person\nBokningar: Papillonlemnhult@gmail.com\nTel: 0793 560313
URL:https://smalandstradgard.com/event/a-celebration-of-apple/
ATTACH;FMTTYPE=image/jpeg:https://smalandstradgard.com/wp-content/uploads/2024/09/1725166120.940497-F22BDBB5-84F8-428E-A2C4-CE90194DE384.jpeg
END:VEVENT
BEGIN:VEVENT
DTSTART;TZID=UTC:20240918T180000
DTEND;TZID=UTC:20240918T203000
DTSTAMP:20260421T103802
CREATED:20240901T153947Z
LAST-MODIFIED:20240901T153947Z
UID:4622-1726682400-1726691400@smalandstradgard.com
SUMMARY:Cafekväll på Bolaget
DESCRIPTION:Bolagsområdet Kyrkogatan 34\, Virserum\, Kalmar län \nVälkommen till en mysig Cafekväll på Bolaget på Bolagsområdet i Virserum! Matilda Johansson från sitt företag ”Räven & Osten” https://www.ravenochosten.se/ kommer och berättar om sin resa samt har 3 ostar med sig för provsmakning. \nEntréavgiften är 100 kr/person och då ingår kaffe eller te med en nybakad matig smörgås. \nVälkommen!
URL:https://smalandstradgard.com/event/cafekvall-pa-bolaget-4/
ATTACH;FMTTYPE=image/png:https://smalandstradgard.com/wp-content/uploads/2024/04/Skarmbild-2024-04-03-155312.png
END:VEVENT
BEGIN:VEVENT
DTSTART;TZID=UTC:20240914T100000
DTEND;TZID=UTC:20240914T133000
DTSTAMP:20260421T103802
CREATED:20240901T201617Z
LAST-MODIFIED:20240901T201617Z
UID:4639-1726308000-1726320600@smalandstradgard.com
SUMMARY:Traktorrace i Nye
DESCRIPTION:Smålands Traktorrace arrangeras för åttonde gången – det var premiär 2015. Traktorracet är ett samarrangemang mellan Farstorps IK och Skirö AIK för att bättra på den kassa som ska trygga idrottsverksamheten i fotboll respektive bandy. Själva racet handlar om parallellslalom med traktorer som ska ta sig igenom en bana där halmbalar är ”käpparna”.  I år deltar tolv förare\, det kommer att koras en totalsegrare och en segrare bland otrimmade traktorer (om inte någon av dem vinner totalt).\n\nFöreningarna har satsat mycket på att göra detta till ett familjearrangemang och tanken är att det ska finnas något som är intressant för alla åldrar. Flera maskinutställare kommer att vara på plats liksom ett gäng marknadsknallar. Arrangemanget erbjuder också en rad aktiviteter för barn som är helt gratis. Barnen får klappa kaniner\, klättra i ett lekland av halmbalar\, åka traktor\, åka militär bandvagn\, spaka skogsmaskin\, rida på käpphästar och förhoppningsvis även riktiga ponnyer!\n\nHemvärnet är på plats och visar utrustning och bandvagnar. Näshults motorveteraner visar gamla jordbruksmaskiner och har lovat att visa hur man tröskade förr i tiden.\nVälkomna!\nhttps://vetlanda.se/uppleva-och-gora/evenemangskalender/evenemang/2024-08-20-smalands-traktorrace-i-nye
URL:https://smalandstradgard.com/event/traktorrace-i-nye/
ATTACH;FMTTYPE=image/png:https://smalandstradgard.com/wp-content/uploads/2024/09/Traktorrace-2.png
END:VEVENT
BEGIN:VEVENT
DTSTART;TZID=UTC:20240913T120000
DTEND;TZID=UTC:20240913T133000
DTSTAMP:20260421T103802
CREATED:20240923T160553Z
LAST-MODIFIED:20240923T160613Z
UID:4738-1726228800-1726234200@smalandstradgard.com
SUMMARY:Fredagslunch
DESCRIPTION:Få en avslappnande start på helgen med god mat och trevligt sällskap. Perfekt för en långlunch med kollegorna eller som en trevlig utflykt. \nFredagslunchen består av en varmrätt\, ackompanjerad av ett varierat salladsbord. För att fullända din lunchupplevelse ingår också dryck\, samt kaffe eller te och en ljuvlig kaka. \nLunchen serveras mellan kl. 12:00 och 13:30 och förbokning är nödvändig för att vi ska kunna ge dig den bästa möjliga upplevelsen. \nPris 255kr/person\nVi erbjuder 10% pensionärsrabatt \n13 september\, 11 oktober & 1 november
URL:https://smalandstradgard.com/event/fredagslunch/
ATTACH;FMTTYPE=image/jpeg:https://smalandstradgard.com/wp-content/uploads/2024/09/dags-for-lunch_ST.jpg
END:VEVENT
BEGIN:VEVENT
DTSTART;TZID=UTC:20240911T180000
DTEND;TZID=UTC:20240911T200000
DTSTAMP:20260421T103802
CREATED:20240829T220240Z
LAST-MODIFIED:20240829T220240Z
UID:4612-1726077600-1726084800@smalandstradgard.com
SUMMARY:Nostalgi i Boa
DESCRIPTION:Välkomna till en kväll i Nostalgins tecken!\n\nVi samlas i Ädelboa för att samtala runt hur det var i Ädelfors & Repperda förr i tiden.\nSitter du på information runt ett visst hus\, en plats eller kanske några inflytelserika personer?\nEller är du bara nyfiken på att få lära dig mer om historien i din bygd?\nDå är du varmt välkommen den här kvällen!\nHar du foton eller dylikt\, ta gärna med dem\n\nDet bjuds på lättare fika och kaffe/te.\nAnmäl er via facebook\, instagram eller info@adelboa.se
URL:https://smalandstradgard.com/event/nostalgi-i-boa/
ATTACH;FMTTYPE=image/jpeg:https://smalandstradgard.com/wp-content/uploads/2024/08/PSX_20240821_155044.jpg
END:VEVENT
BEGIN:VEVENT
DTSTART;TZID=UTC:20240910T100000
DTEND;TZID=UTC:20240910T130000
DTSTAMP:20260421T103802
CREATED:20240901T201754Z
LAST-MODIFIED:20240901T201754Z
UID:4642-1725962400-1725973200@smalandstradgard.com
SUMMARY:Pop-up Coworking i skogen
DESCRIPTION:
URL:https://smalandstradgard.com/event/pop-up-coworking-i-skogen/
ATTACH;FMTTYPE=image/jpeg:https://smalandstradgard.com/wp-content/uploads/2024/09/Landsbygdsveckan-scaled.jpg
END:VEVENT
BEGIN:VEVENT
DTSTART;TZID=UTC:20240909T183000
DTEND;TZID=UTC:20240909T203000
DTSTAMP:20260421T103802
CREATED:20240708T183658Z
LAST-MODIFIED:20240708T183658Z
UID:4532-1725906600-1725913800@smalandstradgard.com
SUMMARY:Föreläsning: Nyttiga nätverk och klistriga kluster
DESCRIPTION:Vill du vara med och samverka för en levande landsbygd? Välkommen till en föreläsning om hur man kan bygga ett ”ekosystem” till stöd för en stärkt landsbygdsutveckling.\nThomas Norrby jobbar på Sveriges Lantbruksuniversitet och är samverkansansvarig för området landsbygdsutveckling på institutionen för stad och land. Tillsammans med studenter från universitetet föreläser Norrby på Farstorps gård den 9 september om kraften i kluster och vilka positiva effekter det kan medföra landsbygdsutveckling. \nUnder träffen får du lyssna på tre olika platsers erfarenheter och därefter samtala om vad dessa kan betyda för oss i Vetlanda. \nDrop-in fika från klockan 18.30. Programmet startar klockan 19. \nTräffen arrangeras som ett samarbete mellan Småland Trädgård och Vetlanda kommun och är den del av Vetlanda kommuns landsbygdsvecka 2024.
URL:https://smalandstradgard.com/event/forelasning-nyttiga-natverk-och-klistriga-kluster/
ATTACH;FMTTYPE=image/jpeg:https://smalandstradgard.com/wp-content/uploads/2024/07/wallby_fotografemmaivarsson_20190628-1.jpg
END:VEVENT
BEGIN:VEVENT
DTSTART;TZID=UTC:20240908T150000
DTEND;TZID=UTC:20240929T153000
DTSTAMP:20260421T103802
CREATED:20240829T220518Z
LAST-MODIFIED:20240829T220518Z
UID:4615-1725807600-1727623800@smalandstradgard.com
SUMMARY:Tipspromenad i Nye
DESCRIPTION:Söndagen den 8 september startar höstens tipspromenader i Nye. Tipspromenaderna fortsätter sedan 15\, 22 och 29 september. Startar gör du i hembygdsparken mellan kl.15.00-15.30.\n\nTesta dina kunskaper\, njut av omgivningarna och ta chansen att vinna ett av priserna. Några av frågorna på rundan är anpassade för barn och en trisslott lottas ut bland alla som deltar. Ta gärna med dig en kaffekorg och avsluta promenaden med en fikastund i den vackra hembygdsparken.\nStartavgiften 20 kronor betalas på plats.\nArrangör: Nye Hembygdsförening\n\nVÄLKOMNA!
URL:https://smalandstradgard.com/event/tipspromenad-i-nye/
ATTACH;FMTTYPE=image/png:https://smalandstradgard.com/wp-content/uploads/2024/08/tipspromenad-1.png
END:VEVENT
BEGIN:VEVENT
DTSTART;TZID=UTC:20240907T130000
DTEND;TZID=UTC:20240907T170000
DTSTAMP:20260421T103802
CREATED:20240901T201346Z
LAST-MODIFIED:20240901T201346Z
UID:4636-1725714000-1725728400@smalandstradgard.com
SUMMARY:Invigning av utställningen "Viskningar från skogen"
DESCRIPTION:I utställningen ”Viskningar från skogen” undersöker fotografen och konstnären Emmi Roosling skogens lager av tid. \nUtställningen är en poetisk berättelse där konstnären närmar sig och behandlar tankar kring landskapets förändring och människans förgänglighet. I detta arbete är det dialogen kring tid och hur människan och skogen förhåller sig till varandra. Utställningen består av två delar\, en innanför konsthallens trygga väggar och en ute i skogsbrukslandskapet. \n\nhttps://www.virserumskonsthall.com/utstallningar/
URL:https://smalandstradgard.com/event/invigning-av-utstallningen-viskningar-fran-skogen/
LOCATION:Virserums Konsthall\, Kyrkogatan 36\, 577 72 Virserum\, Sverige
ATTACH;FMTTYPE=image/jpeg:https://smalandstradgard.com/wp-content/uploads/2024/09/Utstallning-Virserums-konsthall.jpg
END:VEVENT
BEGIN:VEVENT
DTSTART;TZID=UTC:20240907T100000
DTEND;TZID=UTC:20241214T130000
DTSTAMP:20260421T103802
CREATED:20240829T221005Z
LAST-MODIFIED:20240909T130017Z
UID:4618-1725703200-1734181200@smalandstradgard.com
SUMMARY:Öppettider - Ekebergskyrkans Second hand och loppis
DESCRIPTION:Ekebergskyrkans Second hand och loppis har öppet följande datum & tider.\n7/9\, 28/9\, 19/10\, 9/11\, 30/11\, 14/12\nhttps://www.ekebergskyrkan.se/loppis/index.htm\n\nVälkomna!
URL:https://smalandstradgard.com/event/oppettider-ekebergskyrkans-second-hand-och-loppis/
ATTACH;FMTTYPE=image/jpeg:https://smalandstradgard.com/wp-content/uploads/2024/08/Ekebergskyrkan.jpg
END:VEVENT
BEGIN:VEVENT
DTSTART;TZID=UTC:20240907T100000
DTEND;TZID=UTC:20240907T140000
DTSTAMP:20260421T103802
CREATED:20240821T180756Z
LAST-MODIFIED:20240821T180826Z
UID:4592-1725703200-1725717600@smalandstradgard.com
SUMMARY:Höstmarknad i Stenberga
DESCRIPTION:Dags för årets Höstmarknad i Stenberga 2024! \nMarknaden är en härlig blandning av skördemarknad\, lokalproducerad mat\, hantverk\, loppis och kanske lite djur och andra aktiviteter. Det finns fika och enklare lunchmat av olika slag. \nMarknaden arrangeras av Stenbergabutiken i samarbete med Stenberga byalag ek. för. och själva marknadsplatsen är i Näverbyn mitt i Stenberga. \nParkering finns vid kyrkan och på åkern vid sidan av Näverbyn\, se skyltning. Föreningen tar tacksamt emot ett bidrag för parkeringen\, det kommer finnas swish-skyltar ifall du missar föreningens parkeringsvakter.
URL:https://smalandstradgard.com/event/hostmarknad-i-stenberga/
LOCATION:stenberga\, 57497\, Sverige
ATTACH;FMTTYPE=image/jpeg:https://smalandstradgard.com/wp-content/uploads/2024/08/hostmarknad-web-1.jpg
END:VEVENT
BEGIN:VEVENT
DTSTART;VALUE=DATE:20240907
DTEND;VALUE=DATE:20241111
DTSTAMP:20260421T103802
CREATED:20240923T161214Z
LAST-MODIFIED:20240923T161348Z
UID:4751-1725667200-1731283199@smalandstradgard.com
SUMMARY:Helgbuffe´
DESCRIPTION:Ta med familj och vänner och kom till Traktköket för att njuta av en härlig helgbuffé.  Maten tillagas av säsongens finaste råvaror\, alla med en stark lokal anknytning. \nEfter att ni har njutit av buffén avslutar ni måltiden med en läcker efterrätt och nybryggt kaffe eller te. Vår vackra miljö\, både inomhus och utomhus\, skapar en rogivande och inbjudande atmosfär. \nBuffén serveras mellan kl. 12:00 och 14:00 och förbokning är nödvändig för att vi ska kunna ge er den bästa möjliga upplevelsen. \nPris helgbuffé  345kr/person\nBarn 3-12 år 175kr/person\nBarn 0-3 år 75kr/person \nPris fars dag 395kr/person\nBarn 3-12 år 195kr/person\nBarn 0-3år 75kr/person \n  \n7 september\, 12 oktober\, 19 oktober & 10 november (farsdag\, söndag)
URL:https://smalandstradgard.com/event/helgbuffe/
ATTACH;FMTTYPE=image/jpeg:https://smalandstradgard.com/wp-content/uploads/2024/09/dags-for-buffe_ST.jpg
END:VEVENT
BEGIN:VEVENT
DTSTART;TZID=UTC:20240901T110000
DTEND;TZID=UTC:20240901T160000
DTSTAMP:20260421T103802
CREATED:20240815T083156Z
LAST-MODIFIED:20240815T083156Z
UID:4580-1725188400-1725206400@smalandstradgard.com
SUMMARY:Upptäck Karlstorp
DESCRIPTION:Avsluta sommaren med ”Upptäck Karlstorp”\, ett gemensamt arrangemang mellan Backegården\, Söregård Grönsaker\, Räven & Osten och Mejeriet i Karlstorp. Det bjuds på mat\, fika\, marknad med lokala råvaror och loppis i Sockenstugan.\nVälkommen!
URL:https://smalandstradgard.com/event/upptack-karlstorp/
ATTACH;FMTTYPE=image/png:https://smalandstradgard.com/wp-content/uploads/2024/08/Karlstorp.png
END:VEVENT
BEGIN:VEVENT
DTSTART;VALUE=DATE:20240824
DTEND;VALUE=DATE:20240825
DTSTAMP:20260421T103802
CREATED:20240503T103157Z
LAST-MODIFIED:20240506T124538Z
UID:4343-1724457600-1724543999@smalandstradgard.com
SUMMARY:Byaloppet
DESCRIPTION:Välkomna att delta i Byaloppet i Smålands Trädgård lördagen den 24 augusti 2024 som genomförs i vacker och kuperad terräng. Testa dina gränser\, utmana dina vänner\, träningskompisar eller kollegor och överträffa dig själv. Byaloppet passar både för vardagsmotionären och för den vältränade.\nLoppet är en triathlon som startar med simning i Näshult\, fortsätter med cykling till Stenberga och som avslutas med löpning i Stenberga. Du som inte orkar springa hela sträckan kan självklart gå.  \n\n\nÄr ni ett kompisgäng\, en familj eller arbetskamrater som vill delta tillsammans så kan ni dela upp sträckorna mellan två eller tre personer. Anmäl er i så fall till Byastafetten.\n\nVill du/ni genomföra Byaloppet utan tidtagning så kan ni anmäla er till Öppen mixklass. Här startar herrar\, damer och juniorer tillsammans. \n\nFörsta starten går kl 12.00. Hämtning av startpaket sker kl 10.45-11.15. \n\nEfter anmälan mailas mer detaljerad information ut.\n\n  \n  \nMer information hittar ni på: \nhttps://byaloppet.n.nu/
URL:https://smalandstradgard.com/event/byaloppet-3/
ATTACH;FMTTYPE=image/jpeg:https://smalandstradgard.com/wp-content/uploads/2024/05/IMG_2092.jpg
END:VEVENT
BEGIN:VEVENT
DTSTART;VALUE=DATE:20240822
DTEND;VALUE=DATE:20240823
DTSTAMP:20260421T103802
CREATED:20240821T181346Z
LAST-MODIFIED:20240821T181346Z
UID:4599-1724284800-1724371199@smalandstradgard.com
SUMMARY:Lunchföreläsning och Picknick
DESCRIPTION:
URL:https://smalandstradgard.com/event/lunchforelasning-och-picknick/
ATTACH;FMTTYPE=image/jpeg:https://smalandstradgard.com/wp-content/uploads/2024/08/22-augusti-scaled.jpg
END:VEVENT
BEGIN:VEVENT
DTSTART;TZID=UTC:20240821T080000
DTEND;TZID=UTC:20240821T170000
DTSTAMP:20260421T103802
CREATED:20240821T181134Z
LAST-MODIFIED:20240821T181134Z
UID:4595-1724227200-1724259600@smalandstradgard.com
SUMMARY:Dackedagen
DESCRIPTION:Virserum firar Nils Dacke\, ledaren för upproret mot Gustav Vasa.\nDackefejdens avgörande slag ägde rum på sjön Hjortens is utanför Virserum. Var med och upplev en heldag i Nils Dackes tecken på bolagsområdet i Kulturbesöksmålet Virserum! På området finns Konsthallens hantverksmarknad med knallar som visar upp olika hantverk och en spännande utställning om Dacke med berättelser och föremål.\nMöt landsknektarna och självaste Gustav Vasa och Nils Dacke i Virserums Pop-up-Dackespel eller hälsa på smeden på området. Telemuseet\, Möbelindustrimuseet\, Hässlid Form\, Vävstugan och Stinsen håller öppet och Café Flotten serverar Dackefika.
URL:https://smalandstradgard.com/event/dackedagen/
ATTACH;FMTTYPE=image/jpeg:https://smalandstradgard.com/wp-content/uploads/2024/08/Dackedagen2024_WebbInstFb-scaled.jpg
END:VEVENT
BEGIN:VEVENT
DTSTART;VALUE=DATE:20240820
DTEND;VALUE=DATE:20240822
DTSTAMP:20260421T103802
CREATED:20240821T181813Z
LAST-MODIFIED:20240821T181813Z
UID:4605-1724112000-1724284799@smalandstradgard.com
SUMMARY:Humorsshow med Moj på Ekbacken\, Skirö
DESCRIPTION:Efter en tyst sommar på Ekbacken är ni välkomna till humorshow med Moj och sensommarpub! Till showen fredag-lördag köper ni biljett på www.nortic.se Den som bara vill gå på pubkväll (endast lördagen) löser entré från kl 21.00. I puben ser dj Hugo Gustafsson till att det blir högtryck! \nVälkomna
URL:https://smalandstradgard.com/event/humorsshow-med-moj-pa-ekbacken-skiro/
ATTACH;FMTTYPE=image/jpeg:https://smalandstradgard.com/wp-content/uploads/2024/08/IMG_3378.jpg
END:VEVENT
BEGIN:VEVENT
DTSTART;TZID=UTC:20240818T120000
DTEND;TZID=UTC:20240818T160000
DTSTAMP:20260421T103802
CREATED:20240815T083006Z
LAST-MODIFIED:20240815T083006Z
UID:4577-1723982400-1723996800@smalandstradgard.com
SUMMARY:Guldgruvans dag
DESCRIPTION:Söndagen den 18 augusti kl.11-16 firas Guldgruvans dag i Ädelfors med många trevliga aktiviteter för alla åldrar.  Gruv- och mineralmuseet är öppet\, liksom Guldvaskningen i Ädelfors som ligger alldeles intill museet. I byn\, med start vid gruvmuseet\, finns en skyltad runda som berättar om olika verksamheter som bedrivits i området. Broschyr om denna finns att hämta i museet. Kultur- och fritidschef Stewe Jonsson guidar längs med rundan kl. 12\, 13\, 14 och 15. Start vid gruvmuseet.\nTipsrunda med priser för alla deltagande barn utgår från museet\, rundan går längs med delar av den skyltade rundan. Det finns även möjlighet att delta i skattjakt utanför museet.\nI disponentvillan mittemot museet finns  Ädelart Länk till annan webbplats.\, här visar Anita Hazekamp Tress sina målningar.\nÄdelfors alldeles egna inredningsbutik  Ädelboa Länk till annan webbplats. har öppet och serverar kaffe med dopp. Här hittar man både gammal och ny inredning och en härlig trädgård där man kan njuta av hembakat fika.\nMer info:https://vetlanda.se/uppleva-och-gora/evenemangskalender/evenemang/2024-07-25-guldgruvans-dag
URL:https://smalandstradgard.com/event/guldgruvans-dag/
ATTACH;FMTTYPE=image/jpeg:https://smalandstradgard.com/wp-content/uploads/2024/08/Adelfors-Guldgruvans-dag.jpg
END:VEVENT
BEGIN:VEVENT
DTSTART;VALUE=DATE:20240818
DTEND;VALUE=DATE:20240819
DTSTAMP:20260421T103802
CREATED:20240624T211855Z
LAST-MODIFIED:20240624T211855Z
UID:4499-1723939200-1724025599@smalandstradgard.com
SUMMARY:Moaloppet
DESCRIPTION:
URL:https://smalandstradgard.com/event/moaloppet-2/
ATTACH;FMTTYPE=image/jpeg:https://smalandstradgard.com/wp-content/uploads/2024/06/MOALOPPET-2024_page-0001-scaled.jpg
END:VEVENT
BEGIN:VEVENT
DTSTART;TZID=UTC:20240811T110000
DTEND;TZID=UTC:20240811T140000
DTSTAMP:20260421T103802
CREATED:20240725T200120Z
LAST-MODIFIED:20240725T200120Z
UID:4566-1723374000-1723384800@smalandstradgard.com
SUMMARY:Alseda Hembygdsdag
DESCRIPTION:
URL:https://smalandstradgard.com/event/alseda-hembygdsdag/
ATTACH;FMTTYPE=image/jpeg:https://smalandstradgard.com/wp-content/uploads/2024/07/unnamed6688-e1721937620757.jpg
END:VEVENT
BEGIN:VEVENT
DTSTART;VALUE=DATE:20240802
DTEND;VALUE=DATE:20240804
DTSTAMP:20260421T103802
CREATED:20240403T135655Z
LAST-MODIFIED:20240624T211653Z
UID:4212-1722556800-1722729599@smalandstradgard.com
SUMMARY:Virserums Marknad
DESCRIPTION:Virserums marknad 2-3/8 -24\nVirserums Marknad bjuder på något för alla\, oavsett om du är intresserad av hantverk\, kläder\, mat eller  dryck från lokala producenter. Dessutom kan du njuta av underhållning från olika artister och föreningar som uppträder på scenen och för de minsta finns ett tivoli.\nVirserums Marknad är en av de största och äldsta marknader i Sverige och attraherar varje år tusentals besökare. Det är en perfekt utflykt för hela familjen som vill ha en rolig och minnesvärd dag.\nTa chansen att uppleva den härliga stämningen på marknaden i Virserum! Välkommen!\nhttps://www.virserum.se/marknaden/
URL:https://smalandstradgard.com/event/virserums-marknad-2/
ATTACH;FMTTYPE=image/jpeg:https://smalandstradgard.com/wp-content/uploads/2024/04/Virserums-marknad-2024-scaled.jpg
END:VEVENT
BEGIN:VEVENT
DTSTART;TZID=UTC:20240720T090000
DTEND;TZID=UTC:20240720T090000
DTSTAMP:20260421T103802
CREATED:20240708T184140Z
LAST-MODIFIED:20240708T184140Z
UID:4544-1721466000-1721466000@smalandstradgard.com
SUMMARY:Idrottsföreningarnas traditionella sommarauktion i Nye!
DESCRIPTION:Lördag 20 juli inbjuder Farstorps IK och Näshults IF till auktion i Nykyrka ladugård\, mittemot Nye kyrka. Visning och loppisförsäljning startar kl.09.00\, auktionen startar 10.00. Parkeringavgift 20 kronor. Välkommen!
URL:https://smalandstradgard.com/event/idrottsforeningarnas-traditionella-sommarauktion-i-nye/
ATTACH;FMTTYPE=image/png:https://smalandstradgard.com/wp-content/uploads/2024/07/Sommarauktion-Nye.png
END:VEVENT
BEGIN:VEVENT
DTSTART;TZID=UTC:20240629T123000
DTEND;TZID=UTC:20240629T200000
DTSTAMP:20260421T103802
CREATED:20240403T140620Z
LAST-MODIFIED:20240612T230812Z
UID:4225-1719664200-1719691200@smalandstradgard.com
SUMMARY:Virserumsdagen
DESCRIPTION:Virserumsdagen kommer tillbaka! \nhttp://www.virserum.se \nKl. 12-16 Torghandel vid Strandvägen\nKl. 15.00   Femkamp. Lokala lag tävlar om prestigefylld buckla.\nKl. 18.30 Familjefest på Strömsholmen.\nGrillar tänds\, sittplatser finns. Medtag egen picnickorg och grilla det ni vill.\nBarndisco i Annexet. Godisregn.\nMusikunderhållning: Per Melkerz and friends\nI samverkan med föreningar i Virserum\n\nArrangörer:\nVirserums samhällsföreing\, marknad\n\n\nVirserums Sparbank \n\n\nhttps://visithultsfred.se/evenemang/virserumsdagen-2024/
URL:https://smalandstradgard.com/event/virserumsdagen-2/
ATTACH;FMTTYPE=image/jpeg:https://smalandstradgard.com/wp-content/uploads/2024/04/Affische2024_Virserumsdag.jpg
END:VEVENT
BEGIN:VEVENT
DTSTART;VALUE=DATE:20240623
DTEND;VALUE=DATE:20240707
DTSTAMP:20260421T103802
CREATED:20240417T174239Z
LAST-MODIFIED:20240417T174307Z
UID:4244-1719100800-1720310399@smalandstradgard.com
SUMMARY:Emma på Fällan - Stenbergaspelen
DESCRIPTION:Stenberga-Spelen presenterar sommaren 2024 ”Emma på Fällan”\, en gammal klassiker i ny tappning. Föreställningen spelas utomhus i Stenberga hembygdsgård\, utanför Vetlanda. Biljetter går att köpa HÄR (lägg in länken: https://nortic.se/ticket/event/56868?fbclid=IwAR3te5MKx_KxJD93MHOZ_xqJ4YSnBk6gT7UODg_oe8JRi18gjMohtr5qL7Q_aem_AcXrNvj6VHByL-6x-bFzC1_E3fh4kG2tOl4yjQ-pF8YemK8U8yPMkpA7ZaqV-9PRk-ziiTmrDbbVPzuGPVsrIz23) \, i Stenbergabutiken el vid entrén i mån av plats.\nVälkomna!\nSpeldagar:\nPremiär Sön 23 juni kl. 15:00 \nOns  26 juni   kl. 19:00 \nLör  29 juni  kl. 15:00 \nkl. 19:00 \nSön   30 juni   kl. 15:00 \nOns   3 juli   kl.19:00 \nFre    5 juli   kl. 19:00 \nLör    6 juli   kl. 15:00
URL:https://smalandstradgard.com/event/emma-pa-fallan-stenbergaspelen/
ATTACH;FMTTYPE=image/jpeg:https://smalandstradgard.com/wp-content/uploads/2024/04/Emma-pa-Fallan.jpg
END:VEVENT
BEGIN:VEVENT
DTSTART;VALUE=DATE:20240623
DTEND;VALUE=DATE:20240630
DTSTAMP:20260421T103802
CREATED:20240603T121624Z
LAST-MODIFIED:20240603T121624Z
UID:4429-1719100800-1719705599@smalandstradgard.com
SUMMARY:Virserums musikdagar - en festival för barn och vuxna
DESCRIPTION:Virserums musikdagar – en festival för barn och vuxna\n\nI Virserum börjar sommaren med musikaliska förtecken sedan 1997. Veckan efter midsommar bubblar och sjuder det av musik och glädje så gott som dygnet runt under en vecka som för allt fler har blivit en viktig del av sommarsverige.\n\nVirserums Musikdagar har etablerat sig som en festivalort av högsta klass. På ett trettiotal konserter i kyrkan\, logen och på ängen framträder svenska toppartister med världsrykte sida vid sida med morgondagens stjärnor. Lunch- och kvällskonserter\, musik och poesi i juninatten.\n\nInformation\, program och biljetter:\nhttps://www.virserumsmusikdagar.se/
URL:https://smalandstradgard.com/event/virserums-musikdagar-en-festival-for-barn-och-vuxna/
ATTACH;FMTTYPE=image/jpeg:https://smalandstradgard.com/wp-content/uploads/2024/06/39361024-F10d3.jpg
END:VEVENT
BEGIN:VEVENT
DTSTART;TZID=UTC:20240621T140000
DTEND;TZID=UTC:20240621T170000
DTSTAMP:20260421T103802
CREATED:20240403T135938Z
LAST-MODIFIED:20240403T135938Z
UID:4217-1718978400-1718989200@smalandstradgard.com
SUMMARY:Midsommarfest: IOGTs sommarhem
DESCRIPTION:Midsommarfest: IOGTs Sommarhem\, 21 juni kl. 14:00.\nMusik och dans\, Johan och Gunilla Sigvardsson.\nVälkomna till midsommarfirande med dans kring midsommarstången. Kaffeservering och lotterier.
URL:https://smalandstradgard.com/event/midsommarfest-iogts-sommarhem/
ATTACH;FMTTYPE=image/png:https://smalandstradgard.com/wp-content/uploads/2024/04/Skarmbild-2024-04-03-155912.png
END:VEVENT
BEGIN:VEVENT
DTSTART;VALUE=DATE:20240621
DTEND;VALUE=DATE:20240622
DTSTAMP:20260421T103802
CREATED:20240612T231501Z
LAST-MODIFIED:20240612T231501Z
UID:4444-1718928000-1719014399@smalandstradgard.com
SUMMARY:Midsommarfirande i Stenberga
DESCRIPTION:Välkomna på midsommarfirande vid Stenberga Hembygdsgård fredagen den 21 juni kl 14.00! Vi klär midsommarstången och därefter blir det dans o lek. Sedan njuter vi av egen kaffekorg och samvaro. Lotteri med fina vinster\, betalning helst med Swish.\nVälkomna!
URL:https://smalandstradgard.com/event/midsommarfirande-i-stenberga/
ATTACH;FMTTYPE=image/jpeg:https://smalandstradgard.com/wp-content/uploads/2024/06/IMG_2547.jpg
END:VEVENT
BEGIN:VEVENT
DTSTART;VALUE=DATE:20240621
DTEND;VALUE=DATE:20240622
DTSTAMP:20260421T103802
CREATED:20240612T231313Z
LAST-MODIFIED:20240612T231313Z
UID:4441-1718928000-1719014399@smalandstradgard.com
SUMMARY:Midsommarfirande i Nye
DESCRIPTION:På midsommarafton bjuder Nye hembygdsförening in till traditionellt midsommarfirande i hembygdsparken i Nye.\nKl. 10.00 samling för att klä och resa midsommarstången. Ta gärna med dig blommor. Det bjuds på fika.\nKl. 16.00 dans kring midsommarstången. Östra Njudungs folkdanslag uppträder och till kaffet serveras Nyes längsta tårta.\nTävling i pilkastning\, chokladhjul och lotter.\nVarmt välkommen!
URL:https://smalandstradgard.com/event/midsommarfirande-i-nye/
ATTACH;FMTTYPE=image/jpeg:https://smalandstradgard.com/wp-content/uploads/2024/06/Nye-midsommarfirande.jpg
END:VEVENT
BEGIN:VEVENT
DTSTART;TZID=UTC:20240619T170000
DTEND;TZID=UTC:20240619T190000
DTSTAMP:20260421T103802
CREATED:20240403T135758Z
LAST-MODIFIED:20240403T135758Z
UID:4215-1718816400-1718823600@smalandstradgard.com
SUMMARY:Boksläpp\, Hembygdsboken Virserum
DESCRIPTION:Boksläpp\, Hembygdsboken Virserum. Jubileumsupplaga (10:e upplagan). \nMer info kommer.
URL:https://smalandstradgard.com/event/bokslapp-hembygdsboken-virserum/
END:VEVENT
END:VCALENDAR