BEGIN:VCALENDAR
VERSION:2.0
PRODID:-//Smålands Trädgård - ECPv6.11.1//NONSGML v1.0//EN
CALSCALE:GREGORIAN
METHOD:PUBLISH
X-WR-CALNAME:Smålands Trädgård
X-ORIGINAL-URL:https://smalandstradgard.com
X-WR-CALDESC:Events for Smålands Trädgård
REFRESH-INTERVAL;VALUE=DURATION:PT1H
X-Robots-Tag:noindex
X-PUBLISHED-TTL:PT1H
BEGIN:VTIMEZONE
TZID:UTC
BEGIN:STANDARD
TZOFFSETFROM:+0000
TZOFFSETTO:+0000
TZNAME:UTC
DTSTART:20220101T000000
END:STANDARD
END:VTIMEZONE
BEGIN:VEVENT
DTSTART;TZID=UTC:20230309T183000
DTEND;TZID=UTC:20230309T183000
DTSTAMP:20260421T100219
CREATED:20230306T110319Z
LAST-MODIFIED:20230307T120255Z
UID:2803-1678386600-1678386600@smalandstradgard.com
SUMMARY:Afternoon Tea
DESCRIPTION:Nu dukar vi upp för vårens omtyckta Afternoon tea. Kom och mys in dig i vår drängstugan med levande ljus\, scones\, marmelad\, snittar\, paj och godsaker. \n259 kr per person. Halva priset för barn. Sms bokningen till nr 0768675311. Med dit namn och nr\, hur många ni blir\, eventuella allergier samt datum.
URL:https://smalandstradgard.com/event/afternoon-tea/
LOCATION:Rösa Östergård 4 57493 Vetlanda
ATTACH;FMTTYPE=image/jpeg:https://smalandstradgard.com/wp-content/uploads/2023/03/afternoon-tea.jpg
END:VEVENT
BEGIN:VEVENT
DTSTART;TZID=UTC:20230225T110000
DTEND;TZID=UTC:20230225T130000
DTSTAMP:20260421T100219
CREATED:20230129T173507Z
LAST-MODIFIED:20230224T171700Z
UID:2721-1677322800-1677330000@smalandstradgard.com
SUMMARY:Världens bästa (och värsta) natur! – Workshop och högläsning med Virserums konsthall
DESCRIPTION:GRATIS \nFölj med in i böckernas värld där vi möter naturen på ett nytt sätt. Boken kommer till liv och rekvisitan kommer ut ur boken och in i rummet. Efter läsningen skapar vi tillsammans\, med inspiration från boken. \nÅlder: 6-12 år \nAnmälan görs ovan \nHar du frågor\, kontakta oss! \nbiblioteket@hultsfred.se eller 0495-240088 \nhttps://visithultsfred.se/evenemang/varldens-basta-och-varsta-natur-workshop-och-hoglasning-med-virserums-konsthall/
URL:https://smalandstradgard.com/event/varldens-basta-och-varsta-natur-workshop-och-hoglasning-med-virserums-konsthall/
LOCATION:Hultsfreds Bibliotek\, Sverige
ATTACH;FMTTYPE=image/jpeg:https://smalandstradgard.com/wp-content/uploads/2022/08/virserums-konsthall-7831958-1481019621351.jpg
END:VEVENT
BEGIN:VEVENT
DTSTART;TZID=UTC:20230225T100000
DTEND;TZID=UTC:20230225T150000
DTSTAMP:20260421T100219
CREATED:20230129T144633Z
LAST-MODIFIED:20230129T144633Z
UID:2708-1677319200-1677337200@smalandstradgard.com
SUMMARY:Näshults Vintermarknad 2023 25/2 kl. 10.00 - 15.00
DESCRIPTION:Näshults Vintermarknad ska vara ett arrangemang som utgår från lokala företag och föreningar i samverkan med andra företag som erbjuder unikt hantverk\, lokalt producerade livsmedel eller unika tjänster.
URL:https://smalandstradgard.com/event/nashults-vintermarknad-2023-25-2-kl-10-00-15-00/
LOCATION:Näshult\, Näshult\, Sverige
ATTACH;FMTTYPE=image/jpeg:https://smalandstradgard.com/wp-content/uploads/2023/01/NVM19-22.jpg
END:VEVENT
BEGIN:VEVENT
DTSTART;TZID=UTC:20230215T180000
DTEND;TZID=UTC:20230215T200000
DTSTAMP:20260421T100219
CREATED:20230129T174944Z
LAST-MODIFIED:20230129T175015Z
UID:2727-1676484000-1676491200@smalandstradgard.com
SUMMARY:Cafekväll på Bolaget
DESCRIPTION:Cafekväll i Dackesalen på Bolaget. Pär Danielsson berätta och visa telefoner under temat “Telefonens resa i tid från Bell i Amerika till nutid”. \nEntré: 100 kr/person inkl. kaffe/the med nybakad matig smörgås. 18.00 – 20.00
URL:https://smalandstradgard.com/event/cafekvall-pa-bolaget-2/
LOCATION:Bolaget Virserum\, Virserum\, Sverige
ATTACH;FMTTYPE=image/jpeg:https://smalandstradgard.com/wp-content/uploads/2023/01/Bild3.jpg
END:VEVENT
BEGIN:VEVENT
DTSTART;TZID=UTC:20221202T170000
DTEND;TZID=UTC:20221202T210000
DTSTAMP:20260421T100219
CREATED:20221121T164235Z
LAST-MODIFIED:20221121T203945Z
UID:2378-1670000400-1670014800@smalandstradgard.com
SUMMARY:Adventsmys utanför Stenbergabutiken
DESCRIPTION:Adventsmys utanför Stenbergabutiken – Stenberga den 2 december kl. 17-21 \nFör andra året bjuder Stenbergabutiken in till adventsmys i Näverbyn – i hjärtat av Stenberga. Tillsammans med ett antal väl valda utställare kan du i lugn och ro göra dina adventsinköp. Du kan också passa på att göra din julbeställning från Stenbergabutiken\, som du får hemlevererad i julveckan. Det blir provsmakning\, presentförslag och mingel. Du kan köpa dig något varmt att äta och dricka och byta några ord med någon du möter. Kanske dyker också någon oväntad gäst upp och förgyller kvällen. \nVälkommen!
URL:https://smalandstradgard.com/event/adventsmys-utanfor-stenbergabutiken/
LOCATION:stenberga\, 57497\, Sverige
ATTACH;FMTTYPE=image/jpeg:https://smalandstradgard.com/wp-content/uploads/2022/11/unnamed.jpg
END:VEVENT
BEGIN:VEVENT
DTSTART;TZID=UTC:20221126T130000
DTEND;TZID=UTC:20221126T180000
DTSTAMP:20260421T100219
CREATED:20221024T121123Z
LAST-MODIFIED:20221024T121123Z
UID:2318-1669467600-1669485600@smalandstradgard.com
SUMMARY:Julmarknad i Virserum
DESCRIPTION:Välkomna till den årliga Julmarknaden!\nVi erbjuder er en traditionell julmarknad med runt 30 marknadsknallar\, tomtesmyg för barnen\, chokladhjul\, körsång\, Lions serverar helstekt gris\, Röda korsets adventstombola och räddningstjänsten finns på plats.
URL:https://smalandstradgard.com/event/julmarknad-i-virserum/
LOCATION:Pilvägen\, 570 80 Virserum\, Sverige
ATTACH;FMTTYPE=image/webp:https://smalandstradgard.com/wp-content/uploads/2022/10/3321140367.webp
END:VEVENT
BEGIN:VEVENT
DTSTART;TZID=UTC:20221119T110000
DTEND;TZID=UTC:20221119T150000
DTSTAMP:20260421T100219
CREATED:20221024T120128Z
LAST-MODIFIED:20221024T120128Z
UID:2314-1668855600-1668870000@smalandstradgard.com
SUMMARY:Julmarknad i Ädelboa\, Levanders Lanthandel & Loaklev
DESCRIPTION:Den 19 november klockan 11-15 är det julmarknad vid Ädelboa. Inne hittar ni en charmigt inredd butik med allt från lampor till dekorartiklar och julgodis. På plats utanför finns en blandning utställare och försäljare med olika hantverk. Det finns även korv med bröd samt saffransbulle och glögg. Vi binder egna julkransar och har försäljning av dessa.
URL:https://smalandstradgard.com/event/julmarknad-i-adelboa-levanders-lanthandel-loaklev/
LOCATION:Nickelvägen 3\, Holsbybrunn\, Sweden\, 574 54\, Jönköping County\, Sverige
END:VEVENT
BEGIN:VEVENT
DTSTART;TZID=UTC:20221116T180000
DTEND;TZID=UTC:20221116T200000
DTSTAMP:20260421T100219
CREATED:20221024T115734Z
LAST-MODIFIED:20221024T120448Z
UID:2311-1668621600-1668628800@smalandstradgard.com
SUMMARY:Henrik & Linnea
DESCRIPTION:Onsdagen den 16 november\, blir en helkväll med musik\, mat och dryck.  Musikgruppen Henrik och Linnea från Vetlanda och Nässjö kommer till oss. Dessutom kommer vi att ha skapande verkstad på plats med jultema. Klockan 18.00 drar vi igång och  som vanligt på kulturaftnarna är det fri entré! Kvällarna hålls i samarbete med ABF Kalmar län.
URL:https://smalandstradgard.com/event/henrik-linnea/
LOCATION:Virserums Konsthall\, Kyrkogatan 36\, 577 72 Virserum\, Sverige
ATTACH;FMTTYPE=image/jpeg:https://smalandstradgard.com/wp-content/uploads/2022/10/Kulturafton-scaled.jpg
END:VEVENT
BEGIN:VEVENT
DTSTART;TZID=UTC:20221104T180000
DTEND;TZID=UTC:20221104T200000
DTSTAMP:20260421T100219
CREATED:20221024T115135Z
LAST-MODIFIED:20221024T115135Z
UID:2306-1667584800-1667592000@smalandstradgard.com
SUMMARY:HÖSTFESTIVAL I STENBERGA
DESCRIPTION:Den flerfaldigt grammisbelönade kompositören\, trubaduren och sångaren Wille Crafoord kommer med sitt band till höstfestivalen i Stenberga kyrka! \nDet blir ett program där Wille Crafoords nya texter om Stockholms historia vävs samman med Pälle Nävers dikter och andra texter framförda av Pär-Olof Högstedt. \nGratis inträde. Biljett krävs. \nBiljett bokas och hämtas i Stenbergabutiken\, telefon: 0383 – 83035 – Begränsat antal platser \n  \nEfter föreställningen i kyrkan inbjuds till Höstmiddag i Stenberga hembygdsgård. \nMiddag med förrätt\, varmrätt\, dessert och kaffe kostar 250 kronor. \nAnmälan om deltagande på middagen görs i Stenbergabutiken. – Begränsat antal.
URL:https://smalandstradgard.com/event/hostfestival-i-stenberga/
LOCATION:Stenberga Kyrka\, Sverige
ATTACH;FMTTYPE=image/jpeg:https://smalandstradgard.com/wp-content/uploads/2022/10/Bild1.jpg
END:VEVENT
END:VCALENDAR