BEGIN:VCALENDAR
VERSION:2.0
PRODID:-//Smålands Trädgård - ECPv6.11.1//NONSGML v1.0//EN
CALSCALE:GREGORIAN
METHOD:PUBLISH
X-WR-CALNAME:Smålands Trädgård
X-ORIGINAL-URL:https://smalandstradgard.com
X-WR-CALDESC:Events for Smålands Trädgård
REFRESH-INTERVAL;VALUE=DURATION:PT1H
X-Robots-Tag:noindex
X-PUBLISHED-TTL:PT1H
BEGIN:VTIMEZONE
TZID:UTC
BEGIN:STANDARD
TZOFFSETFROM:+0000
TZOFFSETTO:+0000
TZNAME:UTC
DTSTART:20230101T000000
END:STANDARD
END:VTIMEZONE
BEGIN:VEVENT
DTSTART;TZID=UTC:20231125T110000
DTEND;TZID=UTC:20231125T150000
DTSTAMP:20260422T092148
CREATED:20231106T152820Z
LAST-MODIFIED:20231106T152820Z
UID:3698-1700910000-1700924400@smalandstradgard.com
SUMMARY:Julrundan i Alseda\, Ädelfors & Loaklev
DESCRIPTION:Vi bjuder på fin julstämning\, hantverk & en härlig rustik julkänsla.\nÄven kyrkan i Alseda håller öppet. \nGlögg\, fika\, fina nyheter och erbjudanden!\nMer info hittar ni på sociala medier och hemsidor. \nVarmt Välkomna!
URL:https://smalandstradgard.com/event/julrundan-i-alseda-adelfors-loaklev/
ATTACH;FMTTYPE=image/jpeg:https://smalandstradgard.com/wp-content/uploads/2023/11/Julrundan-Adelboa-mfl-scaled.jpg
END:VEVENT
BEGIN:VEVENT
DTSTART;TZID=UTC:20231118T180000
DTEND;TZID=UTC:20231118T235900
DTSTAMP:20260422T092148
CREATED:20231011T132108Z
LAST-MODIFIED:20231106T154207Z
UID:3674-1700330400-1700351940@smalandstradgard.com
SUMMARY:Musik - Mat - Pub i Skirögården
DESCRIPTION:Anders Axelsson underhåller. \nServeras: Fläskfilé\, grillad kyckling\, potatisgratäng\, krämig pastasallad\, sweet chilisås\, bröd och 1 dryck samt kaffe & kaka. \nPris: Entré: Musik & Mat 250:-\nEntre: Musik             100:- \n  \nAnmäl senast 12/11 – sms:a till Mariette & Mats på 070 650 05 54\neller maila baner1954@gmail.com \nArrangör: Skirö Sockens Bygdeförening
URL:https://smalandstradgard.com/event/musikkvall-i-skiro/
ATTACH;FMTTYPE=image/jpeg:https://smalandstradgard.com/wp-content/uploads/2023/10/musik-och-pub.jpg
END:VEVENT
BEGIN:VEVENT
DTSTART;TZID=UTC:20231117T190000
DTEND;TZID=UTC:20231117T190000
DTSTAMP:20260422T092148
CREATED:20231106T192642Z
LAST-MODIFIED:20231108T145932Z
UID:3717-1700247600-1700247600@smalandstradgard.com
SUMMARY:Musikquiz på Cafe´ Lovisen
DESCRIPTION:Stenberga byalag ek. för. anordnar musikquiz i samarbete med Café Lovisen. Mat och\ndeltagande i quizet kostar 200 kr per person. Det finns ett begränsat antal platser. Anmälan\ngörs till Elin Gustafsson (073 8162233) senast den 13 november. \nFredagen den 17 november kl. 19\nHoppas vi ses!
URL:https://smalandstradgard.com/event/musikquiz-pa-cafe-lovisen/
LOCATION:Stenberga 48\, 574 97 Vetlanda
ATTACH;FMTTYPE=image/jpeg:https://smalandstradgard.com/wp-content/uploads/2023/11/E69B4A3E-A457-4D24-B971-D5E8253B3BEA_1_105_c.jpeg
END:VEVENT
BEGIN:VEVENT
DTSTART;TZID=UTC:20231117T120000
DTEND;TZID=UTC:20231117T130000
DTSTAMP:20260422T092148
CREATED:20230827T113050Z
LAST-MODIFIED:20230921T142510Z
UID:3574-1700222400-1700226000@smalandstradgard.com
SUMMARY:17 November: Bokrelease Vandalorum\, Värnamo.
DESCRIPTION:17 November Bokrelease Vandalorum\, Värnamo\nLunchföreläsning av och med redaktörerna/författarna till boken ”I det ljusa Småland” Olof Karlander och Marie Hafström samt medförfattarna Harald Säll och Fredrik Selldén. Lägg in länken till Vandalorum: http://www.vandalorum.se/sv
URL:https://smalandstradgard.com/event/6-10-vandalorum-varnamo/
END:VEVENT
BEGIN:VEVENT
DTSTART;TZID=UTC:20231116T183000
DTEND;TZID=UTC:20231116T213000
DTSTAMP:20260422T092148
CREATED:20230802T211546Z
LAST-MODIFIED:20231004T115008Z
UID:3495-1700159400-1700170200@smalandstradgard.com
SUMMARY:Värdskap i Smålands Trädgård
DESCRIPTION:Mycket välkomna till ”Workshopen Hållbart Värdskap i Smålands Trädgård”   \nSmålands Trädgård bjuder tillsamman med Leader Linné Småland och Virserums  Sparbank in till en workshop där vi kommer att arbeta med hur vi får vår bygd att  växa och bli attraktivare\, både för boende och besökare. Som inspiration har vi  Sofie Gunnarsson från Placebrander. \nTid: 16 november 18:30-21:30 (Drop in med fika från 18:30 Sofie startar 19:00) Plats: Bolagsområdet i Virserum \nVi bjuder på kaffe & smörgås. \nAnmäl dig till till Joakim Strauss Alin kock.joakim.alin@gmail.com senast den 13  november \nVi ses! \n \nHållbart Värdskap i Småalnds Trädgård
URL:https://smalandstradgard.com/event/vardskap-i-smalands-tradgard/
LOCATION:Bolaget Virserum\, Virserum\, Sverige
ATTACH;FMTTYPE=image/png:https://smalandstradgard.com/wp-content/uploads/2022/11/Smalands-Tradgard-logo-liggande-svart.png
END:VEVENT
BEGIN:VEVENT
DTSTART;TZID=UTC:20231115T180000
DTEND;TZID=UTC:20231115T180000
DTSTAMP:20260422T092148
CREATED:20231106T152353Z
LAST-MODIFIED:20231106T152353Z
UID:3695-1700071200-1700071200@smalandstradgard.com
SUMMARY:Café kväll på Bolaget.
DESCRIPTION:Onsdag 15/11 klockan 18 på Bolagsområdet.\nHändelser och personer i Aspelands Härad med Claes Göran Odengrund.
URL:https://smalandstradgard.com/event/cafe-kvall-pa-bolaget/
LOCATION:Bolaget Virserum\, Virserum\, Sverige
ATTACH;FMTTYPE=image/jpeg:https://smalandstradgard.com/wp-content/uploads/2023/11/ALEX8063-scaled.jpg
END:VEVENT
BEGIN:VEVENT
DTSTART;TZID=UTC:20231108T183000
DTEND;TZID=UTC:20231123T183000
DTSTAMP:20260422T092148
CREATED:20231106T153225Z
LAST-MODIFIED:20231106T153502Z
UID:3701-1699468200-1700764200@smalandstradgard.com
SUMMARY:Afternoon Tea
DESCRIPTION:Kom och mys ner dig på Afternoon Tea hos Östergårdträdgårdscafe i vår Drängstuga med en varm kopp te eller kaffe och levande ljus.\n\nOnsdagsr den 8/11 el 15/11 el 22/11\nTorsdagar den 9/11 el 16/11 el 23/11\n Kl 18.30\n Sms på 0768675311\, hur många\, vilket datum ev allergier.\n Snittar\, scones\, go saker\n299 kr\n\nHjärtligt Välkomna till Östergårdträdgårdcafe
URL:https://smalandstradgard.com/event/afternoon-tea-8/
LOCATION:Rösa Östergård 4 57493 Vetlanda
ATTACH;FMTTYPE=image/jpeg:https://smalandstradgard.com/wp-content/uploads/2023/11/afternoon.jpg
END:VEVENT
BEGIN:VEVENT
DTSTART;TZID=UTC:20231108T183000
DTEND;TZID=UTC:20231108T200000
DTSTAMP:20260422T092148
CREATED:20231106T152149Z
LAST-MODIFIED:20231106T152149Z
UID:3689-1699468200-1699473600@smalandstradgard.com
SUMMARY:Musik- och berättarkväll
DESCRIPTION:Bolagsområdet Kyrkogatan 34\, Virserum\, Kalmar län\n“Berättelsen om Bellman”\nPå scenen\, musikern och skådespelerskan Lena Lövdahl från Stockholm.\nVi får höra om Bellmans liv\, roliga anekdoter och om varför eller i\nvilka sammanhang några av hans sånger kom till\, vi får höra många\nexempel ur Bellmans sångskatt.\nKaffeservering\nFRI ENTRÉ
URL:https://smalandstradgard.com/event/musik-och-berattarkvall/
ATTACH;FMTTYPE=image/webp:https://smalandstradgard.com/wp-content/uploads/2023/11/300Berattelsen-om-Bellman-2018-1536x1231.jpg.webp
END:VEVENT
BEGIN:VEVENT
DTSTART;TZID=UTC:20231103T180000
DTEND;TZID=UTC:20231103T220000
DTSTAMP:20260422T092148
CREATED:20231011T132006Z
LAST-MODIFIED:20231011T132006Z
UID:3670-1699034400-1699048800@smalandstradgard.com
SUMMARY:Höstfestival i Stenberga
DESCRIPTION:Höstfestival i Stenberga \nFredagen den 3 november\nKl. 18.00 i Stenberga kyrka \nMed musik och sång av Ellie Tobiasson\, Charlotte Crona\,\nTed Tobiasson\, Peter Hedström inramat med dikter och\nberättelser av Pälle Näver m fl med Pär-Olof Högstedt \nDärefter höstinspirerad middag\nKl. 20.00 i Stenberga Hembygdsgård \nHär serveras en höstmiddag med förrätt\, dessert och kaffe samt trivsamt umgänge och gemytligt samtal om bygden och hembygdsgården.\nUpplyst by \nUnder eftermiddagen tänder vi marschaller runt om i byn. \nBiljetter till konserten i kyrkan är gratis men måste förbokas. (150 platser)\nBiljetterna till middagen i Hembygdsgården kostar 250 kronor. (75 platser)\nAlla biljetter bokas i Stenbergabutiken 0383–83035. \nArrangörer: Pälle Näver-Sällskapet i samarbete med Wernerstiftelsen\, Vetlanda kommun\, Svenska kyrkan \nVetlanda pastorat och Stenbergabutiken. \nHöstfestival i Stenberga 2023
URL:https://smalandstradgard.com/event/hostfestival-i-stenberga-2/
ATTACH;FMTTYPE=image/png:https://smalandstradgard.com/wp-content/uploads/2023/10/Skarmbild-2023-10-11-151218.png
END:VEVENT
BEGIN:VEVENT
DTSTART;TZID=UTC:20231028T160000
DTEND;TZID=UTC:20231028T220000
DTSTAMP:20260422T092148
CREATED:20231004T115500Z
LAST-MODIFIED:20231004T115500Z
UID:3663-1698508800-1698530400@smalandstradgard.com
SUMMARY:Skräckjakt i Loaklev
DESCRIPTION:Skräckjakt i Loaklev \nDen 28/10 klockan 16.00-20.00!\n\nTiden 16.00-18.00 kommer spökena va snälla och stå stilla de förekommer läskigheter längs rundan som man kan kika på…\n18.00-20.00 är de rysligt på riktigt\, spökena rör sig och de kan förekommer ljud och ljus…\n\nEfter jakten kränger slaktaren korv och hamburgare\, gårdsbutiken är öppen om ni vågar komma in… \n\nHar man tur\, eller otur så ser man den huvudlöse ryttaren…\n\nNi anmäler er via Mail mikaelaiskiro@hotmail.com ange hur många ni är och vilken tid ni vill gå\, vid stort intresse grupperar vi kanske er med ett annat gäng! Ni betalar i samband med anmälan…\nFörst till kvarn och så länge tiderna räcker…\nMedtag lagom bra ficklampor\, inte sånna som når alltför långt då man förstör upplevelsen om man ser för långt \n\nRysligt välkomna
URL:https://smalandstradgard.com/event/skrackjakt-i-loaklev/
LOCATION:Loaklev
ATTACH;FMTTYPE=image/png:https://smalandstradgard.com/wp-content/uploads/2023/10/image0.png
END:VEVENT
BEGIN:VEVENT
DTSTART;VALUE=DATE:20230928
DTEND;VALUE=DATE:20231002
DTSTAMP:20260422T092148
CREATED:20230827T113008Z
LAST-MODIFIED:20230921T181737Z
UID:3572-1695859200-1696204799@smalandstradgard.com
SUMMARY:28/9-1/10 Bokmässan Göteborg
DESCRIPTION:28/9-1/10 Bokmässan Göteborg \n28-29/9 Boken ”I det ljusa Småland”\, bokförlaget Arena\, medverkar gör redaktörerna/författarna Olof Karlander och Marie Hafström samt medförfattarna Harald Säll och Fredrik Selldén.
URL:https://smalandstradgard.com/event/28-9-1-10-bokmassan-goteborg/
END:VEVENT
BEGIN:VEVENT
DTSTART;TZID=UTC:20230924T080000
DTEND;TZID=UTC:20230924T170000
DTSTAMP:20260422T092148
CREATED:20230405T110619Z
LAST-MODIFIED:20230508T205310Z
UID:2956-1695542400-1695574800@smalandstradgard.com
SUMMARY:SM i utomhusmatlagning - Deltävling
DESCRIPTION:Smålands Trädgård tillsammans med Stenbergabutiken ordnar en deltävling i SM iutomhusmatlagning. Det är en lagtävling bestående av 3-personers lag som ur enplatsspecifik råvarukorg ska laga en tre-rätters meny. Menyn och maten bedöms sedan urett flertal aspekter av en jury och det vinnande laget går till final på Billingen. Alla ärmycket välkomna och skulle du vara sugen att delta finns det fortfarande några platserkvar\, kontakta då Joakim på kock.joakim.alin@gmail.com \nBild: Gustav Elias.\nhttps://www.vastsverige.com/skovde/swedenoutdoorfestival/utomhusmatlagning/\nhttps://skovde.se/ \n \nFölj länken nedan för anmälan. \nAnmälan 1 pdf \n 
URL:https://smalandstradgard.com/event/sm-i-utomhusmatlagning-deltavling/
LOCATION:stenberga\, 57497\, Sverige
ATTACH;FMTTYPE=image/jpeg:https://smalandstradgard.com/wp-content/uploads/2023/04/180915-1-164-A©GUSTAFELIAS-high-sRGB.jpeg
END:VEVENT
BEGIN:VEVENT
DTSTART;TZID=UTC:20230923T100000
DTEND;TZID=UTC:20230923T150000
DTSTAMP:20260422T092150
CREATED:20230818T181036Z
LAST-MODIFIED:20230818T181133Z
UID:3529-1695463200-1695481200@smalandstradgard.com
SUMMARY:Äppelfest Ädelboa
DESCRIPTION:Den 23 september blir det Äppelfest i Ädelfors!\nHantverk\, blommor\, fiskdamm\, inredning\, äppelmust\, praliner\, fika.\nDet kommer också finnas hamburgare\, korv och smörgåsar för den som är hungrig.\n\nhttps://adelboa.se/\nhttps://www.loaklevlustgard.se/
URL:https://smalandstradgard.com/event/appelfest-adelboa/
LOCATION:Nickelvägen 3\, Ädelfors
ATTACH;FMTTYPE=image/jpeg:https://smalandstradgard.com/wp-content/uploads/2023/08/applefest-scaled.jpg
END:VEVENT
BEGIN:VEVENT
DTSTART;TZID=UTC:20230919T183000
DTEND;TZID=UTC:20230919T193000
DTSTAMP:20260422T092150
CREATED:20230729T151730Z
LAST-MODIFIED:20230729T151730Z
UID:3483-1695148200-1695151800@smalandstradgard.com
SUMMARY:Föreläsning - Hem till byn 2.0
DESCRIPTION:Välkomna till en föreläsning Hem till byn 2.0 – om att arbeta och leva i digitaliseringens\nfotspår med Calle Rosengren\, forskare och författare.\nNär: 19 september 2023\nTid: 18:30-19:30\nPlats: Konferenslokal Buffeln på Farstorps gård\nGratis men föranmälan gäller: Anmäl dig här! \nhttps://docs.google.com/forms/d/10HYzhtuF2N9Ri2-Weh5JTzYtZ6TaeYMHY-v_YsInwYM/viewform?edit_requested=true \nAllt fler har fått möjlighet att jobba mer på distans. En del har till och med flyttat till\nlandsbygden för att förverkliga drömmen om att bo på landet samtidigt som det vanliga\njobbet rullar på med hjälp av digitala distansarbetsmetoder.\nGrannskapskontor\, så kallade coworking-verksamheter\, är en växande trend sedan\ndistansarbetet blivit ett etablerat sätt att jobba på – något som arbetsmiljöforskaren Calle\nRosengren nu fördjupar sig i. \nKan coworking kan vara ett sätt att minska distansarbetarens\nsociala isolering? Bidrar kvarterskontoren till mindre bilkörning och ett enklare livspussel?\nKan småstäderna som förlorat arbetstillfällen få ny dragningskraft som boplats med lokala\nkontorshubbar? \nCalle Rosengren är docent i arbetsmiljöteknik vid LTH\, Lunds universitet. Han beskriver sig\nsom en lantis som vill bo på landet\, jobba hemifrån\, men ändå träffa kollegor. Under namnet\nVikevi Rosengren har han tillsammans med sin fru Jana skrivit romanen\nGrannskapskontoret. De 30 första att anmäla sig kan välja att få ett signerat exemplar av romanen\nGrannskapskontoret!
URL:https://smalandstradgard.com/event/forelasning-hem-till-byn-2-0/
LOCATION:Farstorps gård
ATTACH;FMTTYPE=image/jpeg:https://smalandstradgard.com/wp-content/uploads/2023/07/instagramevent.jpg
END:VEVENT
BEGIN:VEVENT
DTSTART;TZID=UTC:20230916T100000
DTEND;TZID=UTC:20230916T170000
DTSTAMP:20260422T092151
CREATED:20230905T173048Z
LAST-MODIFIED:20230905T173048Z
UID:3599-1694858400-1694883600@smalandstradgard.com
SUMMARY:Dackestupet - liftburen cykling
DESCRIPTION:Dackestupet håller lördagsöppet för liftburen cykling. Kom och testa vår nybyggda flow-trail mm\n\nFöljande Lördagar:\n• 9/9\n• 16/9\n\nÖppet:\n10:00 – 17:00\n\nPris Bikepass / liftkort:\n• Vuxen 240kr\n• Ungdom 160kr (t.o.m 16år)
URL:https://smalandstradgard.com/event/dackestupet-liftburen-cykling-2/
LOCATION:Dackestupet\, Dackestupet\, Virserum\, Sverige
ATTACH;FMTTYPE=image/jpeg:https://smalandstradgard.com/wp-content/uploads/2023/09/Cykel-dackestupet.jpeg
END:VEVENT
BEGIN:VEVENT
DTSTART;VALUE=DATE:20230916
DTEND;VALUE=DATE:20230917
DTSTAMP:20260422T092151
CREATED:20230827T112906Z
LAST-MODIFIED:20230907T211840Z
UID:3570-1694822400-1694908799@smalandstradgard.com
SUMMARY:16/9 Bokrelease på Farstorps gård
DESCRIPTION:Är du nyfiken på vad namnen på byarna\, gårdarna och sjöarna i Smålands Trädgård kommer ifrån?\nKanske vill du veta mer om floran och insikterna som finns här eller hur man byggde och bodde förr i\ntiden? Det och mycket mer får du svar på den 16 september kl.14.00 på Farstorps gård. Då kommer\nredaktörerna och flera av författarna till boken ”I det ljusa Småland” att presentera bokprojektet\,\nberätta om bakgrunden och arbetet med formgivningen och dokumentationen. \nDet kommer finnas tid att ställa frågor och du kan köpa ett signerat exemplar av boken till specialpris just den här dagen.\nProgrammet kommer bla innehålla bakgrundsfakta av och med redaktörerna/författarna Olof\nKarlander och Marie Hafström. Medförfattaren/geologen Claes-Göran Alriksson kommer att berätta\nom vad som finns under markerna. Biologen och Stenbergabon Rodgeir Karlsson kommer ta med er\npå en tur bland flora och fauna. Skogsexperten Harald Säll kommer att berätta om hur träden och\nskogarna kom in i Smålands Trädgård. Fredrik Selldén kommer att berätta om hur man bodde och\nvilken byggnadsteknik man använde förr. Staffan Fridell kommer svara på frågor om namnen på\nbyarna\, gårdarna och sjöarna. Gunilla Norberg från Skirö\, berättar om emigrationen och fotografen\ntill boken\, Dick Norberg\, berättar om formgivningen och dokumentationen. \nTa med nära och kära och var med på en inspirerande eftermiddag mitt i Smålands Trädgård\, varmt\nvälkomna!
URL:https://smalandstradgard.com/event/16-9-bokrelease-pa-farstorps-gard/
END:VEVENT
BEGIN:VEVENT
DTSTART;VALUE=DATE:20230916
DTEND;VALUE=DATE:20230917
DTSTAMP:20260422T092151
CREATED:20230818T181429Z
LAST-MODIFIED:20230818T181429Z
UID:3534-1694822400-1694908799@smalandstradgard.com
SUMMARY:Smålands Traktorrace i Nye
DESCRIPTION:16 september körs årets upplaga av Smålands Traktorrace i Nye. Leran sprutar och motorerna vrålar när förarna rattar traktorerna i en häftig parallellslalomtävling! Men det blir också massor av roliga aktiviteter för barn. Den som vill får prova på att åka militär bandvagn med hemvärnet eller traktor. Det finns roliga byggen av halmbalar att klättra omkring i och smådjur att klappa. Knallar på plats säljer olika godsaker och maskinutställare visar bland annat det senast i traktorväg. I serveringen kan du köpa kaffe\, korv och hamburgare med mera. Fri entré för barn födda 2008 och senare\, 150 kronor för vuxna. Arrangör är Skirö AIK och Farstorps IK
URL:https://smalandstradgard.com/event/smalands-traktorrace-i-nye/
LOCATION:Nye
ATTACH;FMTTYPE=image/jpeg:https://smalandstradgard.com/wp-content/uploads/2023/08/traktorrace.jpg
END:VEVENT
BEGIN:VEVENT
DTSTART;TZID=UTC:20230909T110000
DTEND;TZID=UTC:20230909T160000
DTSTAMP:20260422T092151
CREATED:20230827T112142Z
LAST-MODIFIED:20230827T112428Z
UID:3565-1694257200-1694275200@smalandstradgard.com
SUMMARY:Dackedag
DESCRIPTION:Lördag 9 september på Bolaget kl. 11-16\nUpptäck mer på virserum.se\nKonsthallens HANTVERKSMARKNAD | Gästspel av Calmar Renässansgilles\nLANDSKNEKTAR & BUMLOR | Pop-up DACKESPEL | DACKEUTSTÄLLNING\nFöreläsning av JOHAN THULIN\, ALEXANDER STEINVALL & MAIK ROHDE och\nANNA-KARIN KARLSSON | Boksignering av Anna-Karin “DACKE LEVER”\nSTINSEN | GILLMANS SMEDJA & MÖBELINDUSTRIMUSEUM | TELEMUSEUM\nKONSTHALLEN | DACKEFIKA Kafé Flotten och Café Eken | BARNAKTIVITETER \n  \nDackedag2023_7inklLoggor
URL:https://smalandstradgard.com/event/dackedag/
LOCATION:Bolaget Virserum\, Virserum\, Sverige
ATTACH;FMTTYPE=image/png:https://smalandstradgard.com/wp-content/uploads/2023/08/Skarmbild-2023-08-27-131635.png
END:VEVENT
BEGIN:VEVENT
DTSTART;TZID=UTC:20230909T100000
DTEND;TZID=UTC:20230909T170000
DTSTAMP:20260422T092151
CREATED:20230905T172914Z
LAST-MODIFIED:20230905T172914Z
UID:3595-1694253600-1694278800@smalandstradgard.com
SUMMARY:Dackestupet - liftburen cykling
DESCRIPTION:Dackestupet håller lördagsöppet för liftburen cykling. Kom och testa vår nybyggda flow-trail mm\n\nFöljande Lördagar:\n• 9/9\n• 16/9\n\nÖppet:\n10:00 – 17:00\n\nPris Bikepass / liftkort:\n• Vuxen 240kr\n• Ungdom 160kr (t.o.m 16år)
URL:https://smalandstradgard.com/event/dackestupet-liftburen-cykling/
LOCATION:Dackestupet\, Dackestupet\, Virserum\, Sverige
ATTACH;FMTTYPE=image/jpeg:https://smalandstradgard.com/wp-content/uploads/2023/09/Cykling-Dackestupet.jpeg
END:VEVENT
BEGIN:VEVENT
DTSTART;VALUE=DATE:20230909
DTEND;VALUE=DATE:20230911
DTSTAMP:20260422T092151
CREATED:20230818T182140Z
LAST-MODIFIED:20230818T182228Z
UID:3542-1694217600-1694390399@smalandstradgard.com
SUMMARY:GÅRDSRUNDAN I JÖNKÖPINGS LÄN
DESCRIPTION:GÅRDSRUNDAN I JÖNKÖPINGS LÄN\nNÄRA TILL BRA MAT\n\nVälkommen att besöka gårdar\, gårdsbutiker\, mathantverkare och förädlare runt om i länet.\n9-10 september 2023.\n\nGårdsrundan anordnas nu för tredje året i rad efter förra årets succé med över 13 000 besökare. Över 70 besöksmål i Jönköpings län visar upp sin verksamhet\, hur mat produceras och förädlas. Flera verksamheter i Smålands Trädgård deltar\, se karta nedan.\nbroschyr_gardsrundan_2023
URL:https://smalandstradgard.com/event/gardsrundan-i-jonkopings-lan/
ATTACH;FMTTYPE=image/jpeg:https://smalandstradgard.com/wp-content/uploads/2023/08/gardsrundan_2023_webbild.jpg
END:VEVENT
BEGIN:VEVENT
DTSTART;VALUE=DATE:20230909
DTEND;VALUE=DATE:20230910
DTSTAMP:20260422T092151
CREATED:20230520T155036Z
LAST-MODIFIED:20230520T155140Z
UID:3136-1694217600-1694303999@smalandstradgard.com
SUMMARY:Kul på Hjul i Dackestupet
DESCRIPTION:ICA Krysset trampet Kidz\nTräningstävling XCO\nInvigning Gravityleder/ Liften öppen\nVåffelcafe
URL:https://smalandstradgard.com/event/kul-pa-hjul-i-dackestupet/
LOCATION:Dackestupet\, Dackestupet\, Virserum\, Sverige
ATTACH;FMTTYPE=image/jpeg:https://smalandstradgard.com/wp-content/uploads/2022/08/bikeboys.jpg
END:VEVENT
BEGIN:VEVENT
DTSTART;TZID=UTC:20230902T100000
DTEND;TZID=UTC:20230902T140000
DTSTAMP:20260422T092151
CREATED:20230812T193803Z
LAST-MODIFIED:20230818T182829Z
UID:3521-1693648800-1693663200@smalandstradgard.com
SUMMARY:Höstmarknad i Stenberga
DESCRIPTION:
URL:https://smalandstradgard.com/event/3521/
LOCATION:stenberga\, 57497\, Sverige
ATTACH;FMTTYPE=image/png:https://smalandstradgard.com/wp-content/uploads/2023/08/Skarmbild-2023-08-12-213912.png
END:VEVENT
BEGIN:VEVENT
DTSTART;TZID=UTC:20230831T160000
DTEND;TZID=UTC:20230831T190000
DTSTAMP:20260422T092151
CREATED:20230818T181813Z
LAST-MODIFIED:20230818T181927Z
UID:3538-1693497600-1693508400@smalandstradgard.com
SUMMARY:Bokrelease för boken "I det ljusa Småland - en berättelse om Smålands trädgård"
DESCRIPTION:Den 31 augusti bjuder Virserums Konsthall in till bokrelease för boken ”I det ljusa Småland – en berättelse om Smålands trädgård”. Boken skildrar utifrån ett populärvetenskapligt perspektiv det småländska landskapet och människorna som bott och lever där. \nKvällen bjuder på mingel\, en miniföreläsning med en av författarna till boken Fredrik Seeldén\, samtal om boken mellan redaktörerna/författarna till boken Olof Karlander & Marie Hafström. Under kvällen kommer det finnas möjlighet att bläddra i och köpa boken. \nVälkomna!
URL:https://smalandstradgard.com/event/bokrelease-for-boken-i-det-ljusa-smaland-en-berattelse-om-smalands-tradgard/
LOCATION:Virserums Konsthall\, Kyrkogatan 36\, 577 72 Virserum\, Sverige
ATTACH;FMTTYPE=image/jpeg:https://smalandstradgard.com/wp-content/uploads/2023/08/I-det-ljusa-Smaland-Virserums-Konsthall.jpg
END:VEVENT
BEGIN:VEVENT
DTSTART;TZID=UTC:20230820T130000
DTEND;TZID=UTC:20230820T170000
DTSTAMP:20260422T092151
CREATED:20230729T152408Z
LAST-MODIFIED:20230729T152408Z
UID:3491-1692536400-1692550800@smalandstradgard.com
SUMMARY:Moaloppet
DESCRIPTION:
URL:https://smalandstradgard.com/event/moaloppet/
LOCATION:Virserums MC-klubb\, Södra järnvägsgatan
ATTACH;FMTTYPE=image/webp:https://smalandstradgard.com/wp-content/uploads/2023/07/received_960669921925609.webp
END:VEVENT
BEGIN:VEVENT
DTSTART;TZID=UTC:20230815T180000
DTEND;TZID=UTC:20230815T200000
DTSTAMP:20260422T092151
CREATED:20230729T152014Z
LAST-MODIFIED:20230729T152014Z
UID:3487-1692122400-1692129600@smalandstradgard.com
SUMMARY:Workshop - Cowork Smålands Trädgård
DESCRIPTION:WORKSHOP- Cowork\, vad är det som behövs\, egentligen?\nNär: 15 augusti 2023\nTid: 18-20\nPlats: Nye församlingshem\nFika ingår \nAtt hitta en gemensam arbetsplats\, trots olika arbetsgivare. Hur svårt kan det vara? Under en\nkväll ska vi tillsammans sätta fingret på vad som behövs för att möjliggöra en plats för\ncoworking\, en mötesplats där arbetsdagen kan bli lite roligare\, lite mindre ensam och där nya\nmöten kan ske. Resultatet av kvällen tar vi med oss till nästa steg i projektet för innovativa\narbetsmiljöer i Smålands trädgård- en testmiljö för coworking!\nVi kommer under kvällen få ta del av exempel och lärdomar från andra delar av landsbygden\ndär distansarbetare redan har funnit varandra genom coworking. Under flera korta pass \njobbar vi oss sen fram till vad som kan fungera här i Smålands trädgård\, vår del av\nlandsbygden. Därför hoppas vi att just du vill komma!\nDu som kanske sitter hemma och arbetar men inte alltid lyckas hitta arbetsro? Du som\nönskar lite sällskap till kaffet eller lunchen? Eller du\, som vill fylla din lokal med liv och\nrörelse? Vill du komplettera din verksamhet med ytterligare en dimension? Kanske vill du\nförlänga säsongen för semesterboende och erbjuda dina besökare en möjlighet till en\nworkation 1 ?\nNi och alla andra vi inte nämnt\, välkomna! Anmäl er till cowork.smtr@gmail.com senast\nsöndag den 13 augusti.
URL:https://smalandstradgard.com/event/workshop-cowork-smalands-tradgard/
LOCATION:Nye församlingshem
ATTACH;FMTTYPE=image/jpeg:https://smalandstradgard.com/wp-content/uploads/2023/07/instagramworkshop-2.jpg
END:VEVENT
BEGIN:VEVENT
DTSTART;VALUE=DATE:20230812
DTEND;VALUE=DATE:20230813
DTSTAMP:20260422T092151
CREATED:20230714T122205Z
LAST-MODIFIED:20230714T122241Z
UID:3473-1691798400-1691884799@smalandstradgard.com
SUMMARY:Byaloppet
DESCRIPTION:Lördag 12/8 är det dags för årets Byalopp!\nStarten går från Näshult\, målgång i Stenberga. Missa inte sommarens folkfest\, alla kan delta gammal som ung. Anmäl er som ett lag och tävla i stafetten tillsammans med tjejgänget eller arbetskamrater.
URL:https://smalandstradgard.com/event/byaloppet-2/
LOCATION:stenberga\, 57497\, Sverige
ATTACH;FMTTYPE=image/jpeg:https://smalandstradgard.com/wp-content/uploads/2023/05/image11.jpeg
END:VEVENT
BEGIN:VEVENT
DTSTART;VALUE=DATE:20230805
DTEND;VALUE=DATE:20230807
DTSTAMP:20260422T092151
CREATED:20230129T143432Z
LAST-MODIFIED:20230129T175623Z
UID:2699-1691193600-1691366399@smalandstradgard.com
SUMMARY:GES - Dackestupet
DESCRIPTION:Götaland Enduro Series – Dackestupet Virserum
URL:https://smalandstradgard.com/event/ges-dackestupet/
LOCATION:Dackestupet\, Dackestupet\, Virserum\, Sverige
ATTACH;FMTTYPE=image/jpeg:https://smalandstradgard.com/wp-content/uploads/2023/01/ges-dacke.jpg
END:VEVENT
BEGIN:VEVENT
DTSTART;VALUE=DATE:20230804
DTEND;VALUE=DATE:20230806
DTSTAMP:20260422T092151
CREATED:20230129T173208Z
LAST-MODIFIED:20230129T173208Z
UID:2718-1691107200-1691279999@smalandstradgard.com
SUMMARY:Virserums Marknad
DESCRIPTION:4-5/8 2023 hålls Virserums marknad.  \nMed sina ca 200 utställare lockar marknaden många besökare.  \n  \nEn småländsk folkfest med anor från medeltiden som innehåller utställare\, party\, tivoli och mycket mer.
URL:https://smalandstradgard.com/event/virserums-marknad/
ATTACH;FMTTYPE=image/jpeg:https://smalandstradgard.com/wp-content/uploads/2023/01/Bild2.jpg
END:VEVENT
BEGIN:VEVENT
DTSTART;TZID=UTC:20230626T200000
DTEND;TZID=UTC:20230626T200000
DTSTAMP:20260422T092151
CREATED:20230616T185902Z
LAST-MODIFIED:20230616T185902Z
UID:3415-1687809600-1687809600@smalandstradgard.com
SUMMARY:Moa Anderssons Minnesmatch
DESCRIPTION:Moa Anderssons Minnesmatch 26/6.\nKalmar FF – Virserums SGF\nMatchsstart 18.00 \nInträde 50 kr. Går oavkortat till Moa Anderssons Minnesfond \nVälkomna till Virumsvallen redan 17.00 för\nskattjakt\,\, hoppborg och lotteri.\nKiosken är öppen.\nPassa på att ta en korv med bröd eller varför inte en nygrillad hamburgare:)
URL:https://smalandstradgard.com/event/moa-anderssons-minnesmatch/
LOCATION:Virumsvallen\, Virumsvallen\, Virserum\, Sverige
ATTACH;FMTTYPE=image/png:https://smalandstradgard.com/wp-content/uploads/2023/06/1.png
END:VEVENT
BEGIN:VEVENT
DTSTART;VALUE=DATE:20230626
DTEND;VALUE=DATE:20230702
DTSTAMP:20260422T092151
CREATED:20230520T154847Z
LAST-MODIFIED:20230520T154847Z
UID:3132-1687737600-1688255999@smalandstradgard.com
SUMMARY:Virserums Musikdagar
DESCRIPTION:Sedan 1997 har den vackraste av årstider\, sommaren\, klingats an av Virserums musikdagar. \nVeckan efter midsommar sprudlar sommarkänslorna och musiken i den forna bruksorten\, en vecka som har blivit en viktig start och del av sommarsverige. \nMed ett 15-tal konserter och flertalet aktiviteter i Virserums kyrka\, Rosanders loge & äng i Kråketorp och Virserums nygamla kulturhus blandas framträdanden från svenska toppartister med världsrenommé och morgondagens stjärnor tillsammans med nutida internetfenomen. \nUtöver musik av världsklass fylls och förgylls Virserum av aktiviteter för alla åldrar under hela veckan tack vare nära samarbete mellan Aspelands pastorat\, föreningen Virserums musikdagar\, Hultsfreds kommun\, Virserums Sparbank\, Virserums föreningsliv samt ideella krafter.
URL:https://smalandstradgard.com/event/virserums-musikdagar/
ATTACH;FMTTYPE=image/jpeg:https://smalandstradgard.com/wp-content/uploads/2023/05/kyrkan.jpg
END:VEVENT
END:VCALENDAR