BEGIN:VCALENDAR
VERSION:2.0
PRODID:-//Smålands Trädgård - ECPv6.11.1//NONSGML v1.0//EN
CALSCALE:GREGORIAN
METHOD:PUBLISH
X-ORIGINAL-URL:https://smalandstradgard.com
X-WR-CALDESC:Events for Smålands Trädgård
REFRESH-INTERVAL;VALUE=DURATION:PT1H
X-Robots-Tag:noindex
X-PUBLISHED-TTL:PT1H
BEGIN:VTIMEZONE
TZID:UTC
BEGIN:STANDARD
TZOFFSETFROM:+0000
TZOFFSETTO:+0000
TZNAME:UTC
DTSTART:20260101T000000
END:STANDARD
END:VTIMEZONE
BEGIN:VEVENT
DTSTART;TZID=UTC:20260303T080000
DTEND;TZID=UTC:20260303T170000
DTSTAMP:20260422T085118
CREATED:20260303T132445Z
LAST-MODIFIED:20260303T132445Z
UID:6468-1772524800-1772557200@smalandstradgard.com
SUMMARY:Ångtåg Vetlanda-Kvillsfors
DESCRIPTION:Lördag 11 april\nLördagen den 11 april kör Nässjö Järnvägsmuseum ångtågsturer mellan Vetlanda och Kvillsfors. I Kvillsfors sker det aktiviteter runt stationsområdet/centrum\, där samhällsföreningen arrangerar med aktiviteter. Här finns även möjlighet att köpa mat. Ångtågsturerna är gratis\, tack vare välvillig stöttning från Svenska Postkodlotteriets Stiftelse. \nGenom Grannskapsinitiativet vill vi på Postkodlotteriets Stiftelse bidra till levande\, öppna och tillgängliga grannskap runt om i hela Sverige. Vi är därför väldigt glada över att möjliggöra just den här idén som skapar nya möten samt stärker gemenskapen och välbefinnandet i området. \n– Andreas Eriksson\, generalsekreterare för Svenska Postkodlotteriets Stiftelse \nProgrampunkter:\n\nÅngtågsturer Vetlanda-Kvillsfors-Vetlanda\nKorvgrillning\, kaffe/dryck vid stationsområdet i Kvillsfors\nMatöppet Kvillsfors säljer sallader och annat smått och gott till tågresan\nLoppis bakom brandstationen i Kvillsfors\nEkumeniakyrkan hållet loppis vid stationsområdet i Kvillsfors\n\nSe Tågtider här \n  \nSamarbetspartners\nArrangemanget genomförs i samarbete mellan Nässjö Järnvägsmuseum och Kvillsfors samhällsförening\, med stöttning från Svenska Postkodlotteriets Stiftelse\, genom Grannskapsinitiativet.
URL:https://smalandstradgard.com/event/angtag-vetlanda-kvillsfors/
ATTACH;FMTTYPE=image/png:https://smalandstradgard.com/wp-content/uploads/2026/03/Skarmavbild-2026-03-03-kl.-14.24.01.png
END:VEVENT
BEGIN:VEVENT
DTSTART;TZID=UTC:20260304T180000
DTEND;TZID=UTC:20260304T210000
DTSTAMP:20260422T085118
CREATED:20260209T104954Z
LAST-MODIFIED:20260209T104954Z
UID:6430-1772647200-1772658000@smalandstradgard.com
SUMMARY:Bygdens beredskap - Näshult
DESCRIPTION:Bygdens beredskap – Näshult\nLäs mer här: \nhttps://www.sv.se/kurser-och-evenemang/samhalle/beredskap/bygdens-beredskap-nashult-106952
URL:https://smalandstradgard.com/event/bygdens-beredskap-nashult/
ATTACH;FMTTYPE=image/png:https://smalandstradgard.com/wp-content/uploads/2026/02/Skarmavbild-2026-02-09-kl.-11.47.23.png
END:VEVENT
BEGIN:VEVENT
DTSTART;VALUE=DATE:20260306
DTEND;VALUE=DATE:20260307
DTSTAMP:20260422T085118
CREATED:20260202T084607Z
LAST-MODIFIED:20260202T084607Z
UID:6407-1772755200-1772841599@smalandstradgard.com
SUMMARY:Fredagslunch - Traktköket/Trakt Forest Hotel
DESCRIPTION:Traktköket/Trakt Forest Hotel\nFredagslunch \n13 februari \nKöttfärslimpa med baconströssel\, potatisstomp med palsternacka och örter \n6 mars \nMustig köttgryta med rotsaker och kokt potatis \nBoka bord: tel:+46 (0) 383-56 62 80 \n\ntraktkoket@traktforesthotel.com \n\nhttps://traktforesthotel.com/sv/om-traktkoket/?gad_source=1&gad_campaignid=22564154764
URL:https://smalandstradgard.com/event/fredagslunch-traktkoket-trakt-forest-hotel-2/
ATTACH;FMTTYPE=image/jpeg:https://smalandstradgard.com/wp-content/uploads/2026/02/image001.jpg
END:VEVENT
BEGIN:VEVENT
DTSTART;TZID=UTC:20260306T190000
DTEND;TZID=UTC:20260306T210000
DTSTAMP:20260422T085118
CREATED:20260301T155804Z
LAST-MODIFIED:20260301T155804Z
UID:6451-1772823600-1772830800@smalandstradgard.com
SUMMARY:Byteatern ger Drömmen om elen - Kulturhuset i Virserum
DESCRIPTION:Kulturhuset i Virserum \nByteatern ger Drömmen om elen \nSe mer information på vår hemsida 
URL:https://smalandstradgard.com/event/byteatern-ger-drommen-om-elen-kulturhuset-i-virserum/
ATTACH;FMTTYPE=image/png:https://smalandstradgard.com/wp-content/uploads/2026/03/Skarmavbild-2026-03-01-kl.-16.52.20.png
END:VEVENT
BEGIN:VEVENT
DTSTART;VALUE=DATE:20260307
DTEND;VALUE=DATE:20260308
DTSTAMP:20260422T085118
CREATED:20260202T084930Z
LAST-MODIFIED:20260202T084930Z
UID:6409-1772841600-1772927999@smalandstradgard.com
SUMMARY:Helgbuffé - Traktköket/Trakt Forest Hotel
DESCRIPTION:Helgbuffé serveras\n7 februari\nFörrätt: Krämig grönsakssopa\nHuvudrätt: Hereford nötstek med svagdricka och enbär\, gelé\, kokt potatis\nEfterrätt: Saffranspannkaka med björnbärssylt och grädde\n7 mars\nFörrätt: Krämig morotssoppa\nHuvudrätt: Färsbiffar med svampsås med rostad potatis och rotsaker\nEfterrätt: Mjuk pepparkaka med lingonmousse \nBoka bord: tel:+46 (0) 383-56 62 80 \n\ntraktkoket@traktforesthotel.com \nhttps://traktforesthotel.com/sv/om-traktkoket/?gad_source=1&gad_campaignid=22564154764 \n\n\nVälkommen till Trakt för att utforska och njuta av traktens delikatesser.
URL:https://smalandstradgard.com/event/helgbuffe-traktkoket-trakt-forest-hotel-2/
ATTACH;FMTTYPE=image/jpeg:https://smalandstradgard.com/wp-content/uploads/2026/02/image001.jpg
END:VEVENT
BEGIN:VEVENT
DTSTART;TZID=UTC:20260307T100000
DTEND;TZID=UTC:20260307T130000
DTSTAMP:20260422T085118
CREATED:20260303T102141Z
LAST-MODIFIED:20260303T102141Z
UID:6456-1772877600-1772888400@smalandstradgard.com
SUMMARY:Loppis/Återbruk – hyr ett bord - Kulturhuset i Virserum
DESCRIPTION:Loppis/Återbruk – hyr ett bord – Kulturhuset i Virserum
URL:https://smalandstradgard.com/event/loppis-aterbruk-hyr-ett-bord-kulturhuset-i-virserum/
ATTACH;FMTTYPE=image/png:https://smalandstradgard.com/wp-content/uploads/2026/03/Skarmavbild-2026-03-01-kl.-16.52.20.png
END:VEVENT
BEGIN:VEVENT
DTSTART;TZID=UTC:20260307T130000
DTEND;TZID=UTC:20260307T183000
DTSTAMP:20260422T085118
CREATED:20260112T215859Z
LAST-MODIFIED:20260112T215859Z
UID:6362-1772888400-1772908200@smalandstradgard.com
SUMMARY:Afternoon Tea hos Kafé Orangeriet
DESCRIPTION:Afternoon Tea hos Kafé Orangeriet\n\nLördagen den 7 mars öppnar Kafé Orangeriet upp för säsongen och dukar borden med goda snittar\, scones med tillbehör och lyxiga små bakelser.\n\nDet blir två sittningar under dagen. Första sittningen är kl.13.00-15.30\, andra sittningen är kl.16.00- 18.30. Obs! Endast förbokade platser denna dag.\nBoka ditt bord via hemsidan: https://kafeorangeriet.com/
URL:https://smalandstradgard.com/event/afternoon-tea-hos-kafe-orangeriet/
ATTACH;FMTTYPE=image/jpeg:https://smalandstradgard.com/wp-content/uploads/2026/01/IMG_9392.jpg
END:VEVENT
BEGIN:VEVENT
DTSTART;TZID=UTC:20260307T180000
DTEND;TZID=UTC:20260307T210000
DTSTAMP:20260422T085118
CREATED:20260209T105209Z
LAST-MODIFIED:20260209T105209Z
UID:6432-1772906400-1772917200@smalandstradgard.com
SUMMARY:Middag på Mejeriet del 2 (Middagsklubben)
DESCRIPTION:Middag på Mejeriet del 2 (Middagsklubben)\n\nMiddagsklubben bygger på möten mellan både okända och välbekanta ansikten\, där det dukas upp ett långbord utan bordsplacering. Det betyder att du är precis lika välkommen att komma själv som tillsammans med någon annan. Slå dig ner bredvid någon du inte känner\, kockarna sitter självklart med vid bordet. Vem vet\, kanske går du därifrån med en ny vänskap i bagaget?\n\nAndra middagen 7 mars klockan 18.00 tema Hav\n\nMiddagarna är fristående\, dvs du kan gå enstaka tillfällen eller fler!\nKostnad 395 kr per tillfälle\nBokas på info@mejerietikarlstorp.se\nhttps://mejerietikarlstorp.se/
URL:https://smalandstradgard.com/event/middag-pa-mejeriet-del-2-middagsklubben/
ATTACH;FMTTYPE=image/jpeg:https://smalandstradgard.com/wp-content/uploads/2026/02/Middag-pa-Mejeriet-2026.jpg-del-2.jpg
END:VEVENT
BEGIN:VEVENT
DTSTART;TZID=UTC:20260308T103000
DTEND;TZID=UTC:20260308T130000
DTSTAMP:20260422T085118
CREATED:20260209T102456Z
LAST-MODIFIED:20260209T102456Z
UID:6416-1772965800-1772974800@smalandstradgard.com
SUMMARY:Promenad och yoga hos Loaklev Lustgård
DESCRIPTION:Unna dig en stund att bara vara\n\nLoaklev Lustgård kör en ”repris” på förra årets arrangemang men byter frukost mot soppa! \nDen 8 mars kl.10.30 blir det promenad och yoga hos Loaklev Lustgård. Yogainstruktör Catarina Rautio tar er med ut i skogen\, du går i tystnad och utför yogarörelserna under vägen. Rundan tar ca 1 timme. \nTanken är att du ska höra vindens sus\, njuta av dofter i skogen och få en stund att känna in dig själv\, skogen och naturen. \nEfter promenaden serverar Mikaela en härlig soppa och nybakade frallor. Är det fint väder sitter vi utomhus\, vid sämre väder sitter vi i Lill stugan. \nKläder efter väder\, bra skor/kängor rekommenderas. \nBegränsat antal platser\, först till kvarn gäller! Maila din anmälan till info@loaklevlustgard.se\, ange eventuella allergier eller matpreferenser vid anmälan. Betalning sker i samband med anmälan.\n\nVälkomna!\nMikaela och Catarina Rautio
URL:https://smalandstradgard.com/event/promenad-och-yoga-hos-loaklev-lustgard/
ATTACH;FMTTYPE=image/png:https://smalandstradgard.com/wp-content/uploads/2026/02/Stanna-upp-och-andas-Loaklev-2026.png
END:VEVENT
BEGIN:VEVENT
DTSTART;TZID=UTC:20260308T130000
DTEND;TZID=UTC:20260308T150000
DTSTAMP:20260422T085118
CREATED:20260209T102215Z
LAST-MODIFIED:20260209T102215Z
UID:6415-1772974800-1772982000@smalandstradgard.com
SUMMARY:Kvinnodagsverkstad Ädelboa
DESCRIPTION:Kvinnodagsverkstad Ädelboa\n\nFira internationella kvinnodagen genom att ge dig själv en stund att bara landa. En paus för återhämtning\, något vi alla behöver ibland. Särskilt kvinnor\, som ofta möter höga krav från alla håll.\nMed kravlöst pyssel och hembakad fika i Ädelboa skapar vi tillsammans en varm och trevlig eftermiddag\, där fokus är på gemenskap\, skapande och att bara få vara.\nKostnad: 250:-/person\nAnmäl dig genom att skicka ett mail till info@adelboa.se\nBetalning sker vid anmälan. Anmälan är bindande men ej personlig.\n\nhttps://www.instagram.com/adelboainsta/\n\nVälkommen!
URL:https://smalandstradgard.com/event/kvinnodagsverkstad-adelboa/
ATTACH;FMTTYPE=image/png:https://smalandstradgard.com/wp-content/uploads/2026/02/Kvinnodagsverkstad-Adelboa-2026.png
END:VEVENT
BEGIN:VEVENT
DTSTART;TZID=UTC:20260308T150000
DTEND;TZID=UTC:20260308T170000
DTSTAMP:20260422T085118
CREATED:20260303T131537Z
LAST-MODIFIED:20260303T131537Z
UID:6466-1772982000-1772989200@smalandstradgard.com
SUMMARY:ÅRSMÖTE - NYE HEMBYGDSFÖRENING
DESCRIPTION:NYE HEMBYGDSFÖRENINGs \nÅRSMÖTESöndagen den 8 mars kl. 15.00 \ni Nye församlingsgård. \nSedvanliga årsmötesförhandlingar. \nKaffeservering. \nFilmen ”Det vilda Småland” \nVälkomna!
URL:https://smalandstradgard.com/event/arsmote-nye-hembygdsforening/
ATTACH;FMTTYPE=image/jpeg:https://smalandstradgard.com/wp-content/uploads/2026/03/Nye-hembygdsforening-arsmote-2026.jpg
END:VEVENT
BEGIN:VEVENT
DTSTART;TZID=UTC:20260308T183000
DTEND;TZID=UTC:20260308T203000
DTSTAMP:20260422T085118
CREATED:20260301T160031Z
LAST-MODIFIED:20260301T160031Z
UID:6453-1772994600-1773001800@smalandstradgard.com
SUMMARY:Bio Grannfejden - Kulturhuset i Virserum
DESCRIPTION:Bio Grannfejden – Kulturhuset i Virserum \nSe mer information på vår hemsida 
URL:https://smalandstradgard.com/event/bio-grannfejden-kulturhuset-i-virserum/
ATTACH;FMTTYPE=image/png:https://smalandstradgard.com/wp-content/uploads/2026/03/Skarmavbild-2026-03-01-kl.-16.52.20.png
END:VEVENT
BEGIN:VEVENT
DTSTART;VALUE=DATE:20260313
DTEND;VALUE=DATE:20260314
DTSTAMP:20260422T085118
CREATED:20260309T101443Z
LAST-MODIFIED:20260309T101443Z
UID:6483-1773360000-1773446399@smalandstradgard.com
SUMMARY:Fredagslunch på Wallby Säteri
DESCRIPTION:Fredagslunch på Wallby Säteri\n\nNär våren försiktigt knackar på dörren till Smålands Trädgård blir det nypremiär för fredagsluncherna på Wallby Säteri!\nVarje fredag från den 28 februari och hela vägen fram till påsk kan du boka den populära trerätters-lunchen med kaka och kaffe.\n\nKom och njut av god\, vällagad mat och härlig omgivning hos Wallby Säteri!\nBokar och läser mer gör du på hemsidan:\nhttps://www.wallby.se/lunch-pa-Wallby\n\nVälkommen till Wallby!\nVälkommen till familjen Nyman!
URL:https://smalandstradgard.com/event/fredagslunch-pa-wallby-sateri-2/
ATTACH;FMTTYPE=image/jpeg:https://smalandstradgard.com/wp-content/uploads/2026/03/Wallby-fredagslunch-var-2026-1.jpg
END:VEVENT
BEGIN:VEVENT
DTSTART;TZID=UTC:20260315T150000
DTEND;TZID=UTC:20260315T170000
DTSTAMP:20260422T085118
CREATED:20260303T102403Z
LAST-MODIFIED:20260303T102403Z
UID:6457-1773586800-1773594000@smalandstradgard.com
SUMMARY:Melodikryss med Henrik Örmander - Kulturhuset i Virserum
DESCRIPTION:Melodikryss med Henrik Örmander – Kulturhuset i Virserum
URL:https://smalandstradgard.com/event/melodikryss-med-henrik-ormander-kulturhuset-i-virserum/
ATTACH;FMTTYPE=image/png:https://smalandstradgard.com/wp-content/uploads/2026/03/Skarmavbild-2026-03-01-kl.-16.52.20.png
END:VEVENT
BEGIN:VEVENT
DTSTART;TZID=UTC:20260315T150000
DTEND;TZID=UTC:20260315T170000
DTSTAMP:20260422T085118
CREATED:20260309T094234Z
LAST-MODIFIED:20260309T094234Z
UID:6479-1773586800-1773594000@smalandstradgard.com
SUMMARY:ÅRSMÖTE - Stenberga Hembygdsförening
DESCRIPTION:ÅRSMÖTE \nArrangör:Stenberga Hembygdsförening \nDatum:Söndagen den 15 mars \nTid:Klockan 15.00 \nPlats:Stenberga hembygdsgård \nProgram:Servering \nÅrsmötesförhandlingarInformation om planerad verksamhet \nVarmt Välkomna!Styrelsen
URL:https://smalandstradgard.com/event/arsmote-stenberga-hembygdsforening/
ATTACH;FMTTYPE=image/jpeg:https://smalandstradgard.com/wp-content/uploads/2026/03/Arsmote-Stenberga-Hembygdsforening-2026.jpg
END:VEVENT
BEGIN:VEVENT
DTSTART;TZID=UTC:20260318T124500
DTEND;TZID=UTC:20260318T160000
DTSTAMP:20260422T085118
CREATED:20260303T133234Z
LAST-MODIFIED:20260303T133234Z
UID:6472-1773837900-1773849600@smalandstradgard.com
SUMMARY:Affärsutveckling för småföretagare inom besöksnäringen
DESCRIPTION:Nu är anmälan öppen till nästa träff i affärsutvecklingsserien för besöksnäringen. Denna gång ska vi snacka prissättning och omvärldsanalys.\n\nPrissättning & Omvärldsanalys\n\nUnder 2026 erbjuds en serie affärsutvecklingsträffar för dig som driver ett företag inom besöksnäringen. Smålands Turism och Science Park leder oss genom träffarna och bjuder på sina expertkunskaper inom olika affärsområden. Träffarna är fristående från varandra och du kan välja att gå på den eller de träffar som känns relevanta för din verksamhet. \nDen 18 mars är det dags för andra träffen i affärsutvecklingsserien\, denna gång går vi igenom två affärsområden.\n\nLäs mer och anmäl dig här – Affärsutveckling för småföretagare inom besöksnäringen \n\nHoppas du har möjlighet att vara med!
URL:https://smalandstradgard.com/event/affarsutveckling-for-smaforetagare-inom-besoksnaringen-2/
ATTACH;FMTTYPE=image/png:https://smalandstradgard.com/wp-content/uploads/2026/03/Skarmavbild-2026-03-03-kl.-14.28.52.png
END:VEVENT
BEGIN:VEVENT
DTSTART;TZID=UTC:20260318T183000
DTEND;TZID=UTC:20260318T210000
DTSTAMP:20260422T085118
CREATED:20260209T104114Z
LAST-MODIFIED:20260209T104114Z
UID:6424-1773858600-1773867600@smalandstradgard.com
SUMMARY:Bygdens beredskap - Nye
DESCRIPTION:Bygdens beredskap – Nye\nLäs mer här: \nhttps://www.sv.se/kurser-och-evenemang/samhalle/beredskap/bygdens-beredskap-nye-106945
URL:https://smalandstradgard.com/event/bygdens-beredskap-nye-2/
ATTACH;FMTTYPE=image/png:https://smalandstradgard.com/wp-content/uploads/2026/02/Skarmavbild-2026-02-09-kl.-11.38.08.png
END:VEVENT
BEGIN:VEVENT
DTSTART;TZID=UTC:20260318T183000
DTEND;TZID=UTC:20260318T211500
DTSTAMP:20260422T085118
CREATED:20260209T103545Z
LAST-MODIFIED:20260209T103545Z
UID:6420-1773858600-1773868500@smalandstradgard.com
SUMMARY:Bygdens beredskap - Stenberga
DESCRIPTION:Bygdens beredskap – Stenberga\nLäs mer här: \nhttps://www.sv.se/kurser-och-evenemang/samhalle/beredskap/bygdens-beredskap-stenberga-106951
URL:https://smalandstradgard.com/event/bygdens-beredskap-stenberga-2/
ATTACH;FMTTYPE=image/png:https://smalandstradgard.com/wp-content/uploads/2026/02/Skarmavbild-2026-02-09-kl.-11.31.06.png
END:VEVENT
BEGIN:VEVENT
DTSTART;TZID=UTC:20260319T190000
DTEND;TZID=UTC:20260319T211500
DTSTAMP:20260422T085118
CREATED:20260209T104600Z
LAST-MODIFIED:20260209T104600Z
UID:6428-1773946800-1773954900@smalandstradgard.com
SUMMARY:Bygdens beredskap - Skirö
DESCRIPTION:Bygdens beredskap – Skirö\nLäs mer här: \nhttps://www.sv.se/kurser-och-evenemang/samhalle/beredskap/bygdens-beredskap-skiro-106939
URL:https://smalandstradgard.com/event/bygdens-beredskap-skiro-2/
ATTACH;FMTTYPE=image/png:https://smalandstradgard.com/wp-content/uploads/2026/02/Skarmavbild-2026-02-09-kl.-11.43.40.png
END:VEVENT
BEGIN:VEVENT
DTSTART;VALUE=DATE:20260320
DTEND;VALUE=DATE:20260321
DTSTAMP:20260422T085118
CREATED:20260309T101605Z
LAST-MODIFIED:20260309T101605Z
UID:6485-1773964800-1774051199@smalandstradgard.com
SUMMARY:Fredagslunch på Wallby Säteri
DESCRIPTION:Fredagslunch på Wallby Säteri\n\nNär våren försiktigt knackar på dörren till Smålands Trädgård blir det nypremiär för fredagsluncherna på Wallby Säteri!\nVarje fredag från den 28 februari och hela vägen fram till påsk kan du boka den populära trerätters-lunchen med kaka och kaffe.\n\nKom och njut av god\, vällagad mat och härlig omgivning hos Wallby Säteri!\nBokar och läser mer gör du på hemsidan:\nhttps://www.wallby.se/lunch-pa-Wallby\n\nVälkommen till Wallby!\nVälkommen till familjen Nyman!
URL:https://smalandstradgard.com/event/fredagslunch-pa-wallby-sateri-3/
ATTACH;FMTTYPE=image/jpeg:https://smalandstradgard.com/wp-content/uploads/2026/03/Wallby-fredagslunch-var-2026-1.jpg
END:VEVENT
BEGIN:VEVENT
DTSTART;TZID=UTC:20260320T183000
DTEND;TZID=UTC:20260320T203000
DTSTAMP:20260422T085118
CREATED:20260303T133923Z
LAST-MODIFIED:20260303T133923Z
UID:6474-1774031400-1774038600@smalandstradgard.com
SUMMARY:BERÄTTARKVÄLL med Elin Rantatalo - Näshults Bygdegård
DESCRIPTION:BERÄTTARKVÄLLmed Elin Rantatalo \nFredag 20/3 kl. 18.30Näshults Bygdegård \nNär Elin 2019 drabbades av sepsis så förändrades allt över en natt.Men mitt i krisen bestämde hon sig för att livet inte var slut – bara annorlunda! \nHör hennes berättelse om att leva livet till sin fulla potential trots utmaningar.Om att finna hoppet och modet att omfamna livet även när allt förändras.En inspirerande föreläsning som berör och påminner oss om att hopp\, bemötande och mänsklig närvaro kan förändra liv på riktigt. \nOBS! Föranmälan krävs –skicka anmälan via sms till: 070-6809720 senast 16/3Kostnad 100:-/person inkl. kvällsmacka/kaffe/te \nVARMT VÄLKOMNA \nNäshults Hembygdsförening i samarbete medStiftelsen Werner von Seydlitz
URL:https://smalandstradgard.com/event/berattarkvall-med-elin-rantatalo-nashults-bygdegard/
ATTACH;FMTTYPE=image/jpeg:https://smalandstradgard.com/wp-content/uploads/2026/03/IMG_9713.jpg
END:VEVENT
BEGIN:VEVENT
DTSTART;TZID=UTC:20260321T100000
DTEND;TZID=UTC:20260321T150000
DTSTAMP:20260422T085118
CREATED:20260202T091823Z
LAST-MODIFIED:20260202T091823Z
UID:6410-1774087200-1774105200@smalandstradgard.com
SUMMARY:"Lär dig sticka" - workshop Loaklev 
DESCRIPTION:”Lär dig sticka” – workshop Loaklev \n\nVarmt välkomna till Loaklev och Lill-stugan den 21 mars på ”Lär dig sticka”-workshop med Ewa Persson.\nEwa är en mycket skicklig stickare med stor pedagogisk förmåga och stort tålamod. Under dagen går vi igenom grunderna i stickning\, hur man lägger upp ett arbete och stickar en sjal i räta maskor.\nVi startar kl. 10.00 med fika och en presentation\, därefter följer en genomgång där Ewa visar tekniken innan deltagarna sätter igång med sitt arbete. Efter lunch finns möjlighet för den som önskar att prova ytterligare teknik med aviga maskor.\nDagen avslutas kl. 15.00 med gemensam utvärdering samt kaffe/te och kaka.\nPris: 700 kr (betalas vid anmälan)\nI priset ingår stickor\, garn\, mönster och markörer att ta med hem samt lunch och fika.\nSista anmälningsdag: 15 mars\nPlatserna är begränsade\, först till kvarn!\nVid anmälan\, ange önskad garnfärg samt eventuella allergier.\nAnmälan till info@loaklevlustgard.se.\nVarmt välkomna!
URL:https://smalandstradgard.com/event/lar-dig-sticka-workshop-loaklev/
ATTACH;FMTTYPE=image/jpeg:https://smalandstradgard.com/wp-content/uploads/2026/02/Stickning-Loaklev-2026.jpg
END:VEVENT
BEGIN:VEVENT
DTSTART;TZID=UTC:20260321T160000
DTEND;TZID=UTC:20260321T173000
DTSTAMP:20260422T085118
CREATED:20260303T102527Z
LAST-MODIFIED:20260303T102527Z
UID:6458-1774108800-1774114200@smalandstradgard.com
SUMMARY:Bio Operation Bäver - Kulturhuset i Virserum
DESCRIPTION:Bio Operation Bäver – Kulturhuset i Virserum
URL:https://smalandstradgard.com/event/bio-operation-baver-kulturhuset-i-virserum/
ATTACH;FMTTYPE=image/png:https://smalandstradgard.com/wp-content/uploads/2026/03/Skarmavbild-2026-03-01-kl.-16.52.20.png
END:VEVENT
BEGIN:VEVENT
DTSTART;TZID=UTC:20260322T130000
DTEND;TZID=UTC:20260322T160000
DTSTAMP:20260422T085118
CREATED:20260317T061125Z
LAST-MODIFIED:20260317T061125Z
UID:6496-1774184400-1774195200@smalandstradgard.com
SUMMARY:Påskpyssel i Boa!
DESCRIPTION:Påskpyssel i Boa\n\nSöndagen den 22/3 öppnar Ädelboa upp för familjer som vill påskpyssla. Mellan klockan 13-16 är ni välkomna att måla er egen trätupp med färger som ni själva väljer.  Perfekt att sätta i påskblomman! \nDenna aktivitet är kostnadsfri men kräver anmälan i förväg för att kunna beräkna antal tuppar. Vuxna i sällskap med barnet är också välkommen att måla sig en tupp. \nMöjlighet finns att förboka påskfika\, påskmuffins och kaffe/te eller fruktdryck för 50:-/person. \nVälkomna att boka in er till en kreativ stund!
URL:https://smalandstradgard.com/event/paskpyssel-i-boa/
ATTACH;FMTTYPE=image/png:https://smalandstradgard.com/wp-content/uploads/2026/03/Screenshot-2026-03-16-at-16-26-55-Instagram.png
END:VEVENT
BEGIN:VEVENT
DTSTART;TZID=UTC:20260326T183000
DTEND;TZID=UTC:20260326T200000
DTSTAMP:20260422T085118
CREATED:20260303T103126Z
LAST-MODIFIED:20260303T103126Z
UID:6462-1774549800-1774555200@smalandstradgard.com
SUMMARY:Bio Michael - Kulturhuset i Virserum
DESCRIPTION:Bio Michael – Kulturhuset i Virserum
URL:https://smalandstradgard.com/event/bio-michael-kulturhuset-i-virserum/
ATTACH;FMTTYPE=image/png:https://smalandstradgard.com/wp-content/uploads/2026/03/Skarmavbild-2026-03-01-kl.-16.52.20.png
END:VEVENT
BEGIN:VEVENT
DTSTART;VALUE=DATE:20260327
DTEND;VALUE=DATE:20260328
DTSTAMP:20260422T085118
CREATED:20260309T101727Z
LAST-MODIFIED:20260309T101727Z
UID:6486-1774569600-1774655999@smalandstradgard.com
SUMMARY:Fredagslunch på Wallby Säteri
DESCRIPTION:Fredagslunch på Wallby Säteri\n\nNär våren försiktigt knackar på dörren till Smålands Trädgård blir det nypremiär för fredagsluncherna på Wallby Säteri!\nVarje fredag från den 28 februari och hela vägen fram till påsk kan du boka den populära trerätters-lunchen med kaka och kaffe.\n\nKom och njut av god\, vällagad mat och härlig omgivning hos Wallby Säteri!\nBokar och läser mer gör du på hemsidan:\nhttps://www.wallby.se/lunch-pa-Wallby\n\nVälkommen till Wallby!\nVälkommen till familjen Nyman!
URL:https://smalandstradgard.com/event/fredagslunch-pa-wallby-sateri-4/
ATTACH;FMTTYPE=image/jpeg:https://smalandstradgard.com/wp-content/uploads/2026/03/Wallby-fredagslunch-var-2026-1.jpg
END:VEVENT
BEGIN:VEVENT
DTSTART;VALUE=DATE:20260328
DTEND;VALUE=DATE:20260329
DTSTAMP:20260422T085118
CREATED:20260202T083311Z
LAST-MODIFIED:20260202T083343Z
UID:6399-1774656000-1774742399@smalandstradgard.com
SUMMARY:Virserums konsthall våren 2026
DESCRIPTION:TEXTILÅR 2026\n\n\n\n\n\nLördagen den 28e mars\, 14.00\, slår vi återigen upp dörrarna till konsthallen och inleder vårt nya textilår med tre nya stora utställningar samt två mindre.\n\n\n\nVart tredje år funderar Virserums Konsthall kring textil\, och på relationen till det som medium. Vad betyder textil\, och vad har det betytt\, för människor genom tiderna\, socialt\, ekonomiskt\, andligt och estetiskt? \nÅret kommer att kretsa kring textilt hantverk på flera sätt; Hantverk som en ritual\, och överföringen av hantverkskunskap som en ritual. Hur vi förvaltar lokala traditioner genom att förnya\, fånga upp kunskap om hantverk samt jobba generationsöverskridande. \n\n\n\n\n\n\nLäs mer här!
URL:https://smalandstradgard.com/event/virserums-konsthall-varen-2026/
ATTACH;FMTTYPE=image/png:https://smalandstradgard.com/wp-content/uploads/2026/02/Skarmavbild-2026-02-02-kl.-09.32.38-scaled.png
END:VEVENT
BEGIN:VEVENT
DTSTART;TZID=UTC:20260328T100000
DTEND;TZID=UTC:20260329T120000
DTSTAMP:20260422T085118
CREATED:20260309T095259Z
LAST-MODIFIED:20260309T095259Z
UID:6481-1774692000-1774785600@smalandstradgard.com
SUMMARY:Hälsohelg på Trakt Forest Hotel
DESCRIPTION:Hälsohelg med Johannas hälsoliv\n\n28-29 mars inbjuder vi till en hälsohelg i samarbete med Johannas hälsoliv. Den här helgen är för dig som vill komma bort från vardagen under ett dygn\, landa i kroppen och fylla på med ny energi. Oavsett om du åker själv för egen återhämtning eller tillsammans med en vän eller ett kompisgäng\, är helgen skapad för att ge dig en paus från måsten och prestation. Vi kombinerar lugn och funktionell träning\, rörelse och vandring i naturen samt återhämtning\, helt utan diettänk\, krav eller jämförelse. Allt sker på dina villkor\, med fokus på närvaro\, styrka och välmående. \nVälkomna till en helg med träning\, god mat\, återhämtning och gemenskap.\nHelgen startar kl 10:00 på lördagen och avslutas mitt på dagen på söndagen. \nPris 3395kr/person för del i dubbelrum på Trakts nya gårdshotell eller i ett av våra gårdshus. \nAnmäl intresse till booking@traktforesthotel.com så återkommer vi med mer info inom kort! \nLäs mer om evenemanget och om Johannas hälsoliv här
URL:https://smalandstradgard.com/event/halsohelg-pa-trakt-forest-hotel/
ATTACH;FMTTYPE=image/jpeg:https://smalandstradgard.com/wp-content/uploads/2026/03/Halsohelg-Trakt-2026-1.jpg
END:VEVENT
BEGIN:VEVENT
DTSTART;TZID=UTC:20260328T160000
DTEND;TZID=UTC:20260328T200000
DTSTAMP:20260422T085118
CREATED:20260202T083753Z
LAST-MODIFIED:20260202T083753Z
UID:6401-1774713600-1774728000@smalandstradgard.com
SUMMARY:Grosshandlarmiddag Ädelfors hotell och konferens
DESCRIPTION:Grosshandlarmiddag Ädelfors hotell och konferens\n\nÅk tillbaka i tiden och ät en riktigt klassisk gammaldags middag. Börja med grogg\, fortsätt med carpaccio på oxfilé och njut av köttbullar som förr – stora\, saftiga och serverade med gräddsås\, lingon\, pressgurka och potatispuré. Till detta hör både snaps och starköl. Avsluta som sig bör med kaffe\, avec och handgjord pralin. En traditionsenlig måltid för livsnjutare och finsmakare.\nGrogg\n4 cl eau-de-vie\, sockerdricka.\nFörrätt\nCarpaccio på oxfilé med parmesan och kapris.\nVarmrätt\nKökets stora goda Ädelköttbullar. Gräddsås\, pressgurka\, lingon och potatispuré.\nDessert och Avec\nKaffe med avec 4 cl. Välj mellan punsch\, konjak eller whisky.\nLiten handgjord pralin.\nDet ingår två st. 50 cl öl och en snaps till förrätt och huvudrätt.\nLördagen  den 28 mars kl. 16.00-20.00. \n1 125:- per person  inkl. dryck\, det finns alkoholfritt alternativ. Max 50 personer. Boka din plats idag. \nBoka din plats! \nbokning@adelfors.nu \n0383-571 70 \nhttps://adelforshotell.nu/event/vaara-event/grosshandlarmiddag-28-mars \nVälkomna!
URL:https://smalandstradgard.com/event/grosshandlarmiddag-adelfors-hotell-och-konferens/
ATTACH;FMTTYPE=image/webp:https://smalandstradgard.com/wp-content/uploads/2026/02/Grosshandlarmiddag-Adelfors.webp
END:VEVENT
BEGIN:VEVENT
DTSTART;VALUE=DATE:20260403
DTEND;VALUE=DATE:20260404
DTSTAMP:20260422T085118
CREATED:20260317T071235Z
LAST-MODIFIED:20260317T071235Z
UID:6500-1775174400-1775260799@smalandstradgard.com
SUMMARY:Påskbuffé Trakt Forest Hotel/Traktköket
DESCRIPTION:Påskbuffé Trakt Forest Hotel/Traktköket\n\nPå långfredagen den 3 april bjuder Traktköket in till påskbuffé. En härlig buffé med lokal mat och våriga smaker.\n\nVarmt välkomna att boka bord!\nwww.traktforesthotel.com
URL:https://smalandstradgard.com/event/paskbuffe-trakt-forest-hotel-traktkoket/
ATTACH;FMTTYPE=image/jpeg:https://smalandstradgard.com/wp-content/uploads/2026/03/Paskbuffe-Trakt-2026.jpg
END:VEVENT
END:VCALENDAR